BEGIN:VCALENDAR
VERSION:2.0
PRODID:-//PassaParola Magazine - ECPv5.7.0//NONSGML v1.0//EN
CALSCALE:GREGORIAN
METHOD:PUBLISH
X-WR-CALNAME:PassaParola Magazine
X-ORIGINAL-URL:https://passaparola.info/web
X-WR-CALDESC:Eventi per PassaParola Magazine
BEGIN:VTIMEZONE
TZID:Europe/Rome
BEGIN:DAYLIGHT
TZOFFSETFROM:+0100
TZOFFSETTO:+0200
TZNAME:CEST
DTSTART:20260329T010000
END:DAYLIGHT
BEGIN:STANDARD
TZOFFSETFROM:+0200
TZOFFSETTO:+0100
TZNAME:CET
DTSTART:20261025T010000
END:STANDARD
END:VTIMEZONE
BEGIN:VEVENT
DTSTART;TZID=Europe/Rome:20260315T190000
DTEND;TZID=Europe/Rome:20260315T200000
DTSTAMP:20260425T022918
CREATED:20260310T095647Z
LAST-MODIFIED:20260310T102223Z
UID:33733-1773601200-1773604800@passaparola.info
SUMMARY:Stasera ad Elettra il lutto non si addice
DESCRIPTION:Il mito fondativo dell’Occidente rivive sulla scena.Oreste intravede il futuro: la violenza non crea potere\, solo la giustizia può generare civiltà. \nUna piece di teatro di Pietro Cennamo\, Antonella Cenci\, Matteo Martorana\, Anna Ristori\nRegia di Pietro Cennamo\nDomenica 15 marzo ore 19:00 ⏱️ 60″ \n 
URL:https://passaparola.info/web/eventi/stasera-ad-elettra-il-lutto-non-si-addice/
END:VEVENT
END:VCALENDAR