BEGIN:VCALENDAR
VERSION:2.0
PRODID:-//PassaParola Magazine - ECPv5.7.0//NONSGML v1.0//EN
CALSCALE:GREGORIAN
METHOD:PUBLISH
X-WR-CALNAME:PassaParola Magazine
X-ORIGINAL-URL:https://passaparola.info/web
X-WR-CALDESC:Eventi per PassaParola Magazine
BEGIN:VTIMEZONE
TZID:Europe/Rome
BEGIN:DAYLIGHT
TZOFFSETFROM:+0100
TZOFFSETTO:+0200
TZNAME:CEST
DTSTART:20260329T010000
END:DAYLIGHT
BEGIN:STANDARD
TZOFFSETFROM:+0200
TZOFFSETTO:+0100
TZNAME:CET
DTSTART:20261025T010000
END:STANDARD
END:VTIMEZONE
BEGIN:VEVENT
DTSTART;TZID=Europe/Rome:20260425T200000
DTEND;TZID=Europe/Rome:20260425T200000
DTSTAMP:20260421T140719
CREATED:20260420T152840Z
LAST-MODIFIED:20260420T152840Z
UID:34181-1777147200-1777147200@passaparola.info
SUMMARY:Nino D'Angelo in concerto
DESCRIPTION:
URL:https://passaparola.info/web/eventi/nino-dangelo-in-concerto/
LOCATION:Casino 2000\, Mondorf-les-Bains\, GR\, Luxembourg
END:VEVENT
END:VCALENDAR