BEGIN:VCALENDAR
VERSION:2.0
PRODID:-//PassaParola Magazine - ECPv5.7.0//NONSGML v1.0//EN
CALSCALE:GREGORIAN
METHOD:PUBLISH
X-WR-CALNAME:PassaParola Magazine
X-ORIGINAL-URL:https://passaparola.info/web
X-WR-CALDESC:Eventi per PassaParola Magazine
BEGIN:VTIMEZONE
TZID:Europe/Rome
BEGIN:DAYLIGHT
TZOFFSETFROM:+0100
TZOFFSETTO:+0200
TZNAME:CEST
DTSTART:20260329T010000
END:DAYLIGHT
BEGIN:STANDARD
TZOFFSETFROM:+0200
TZOFFSETTO:+0100
TZNAME:CET
DTSTART:20261025T010000
END:STANDARD
END:VTIMEZONE
BEGIN:VEVENT
DTSTART;TZID=Europe/Rome:20260213T180000
DTEND;TZID=Europe/Rome:20260213T200000
DTSTAMP:20260425T004649
CREATED:20260213T123300Z
LAST-MODIFIED:20260213T124109Z
UID:33294-1771005600-1771012800@passaparola.info
SUMMARY:Giorno del ricordo: Anpi presenta il libro di Davide Conti (online)
DESCRIPTION:  \n \nIl link è il seguente: \nMeeting link:\nhttps://anpi-zwc.my.webex.com/meet/lussemburgo \nMeeting number:\n957 732 741 \nJoin from a video conferencing system or application\nDial: lussemburgo.anpi-zwc.my@webex.com\nYou can also dial 62.109.219.4 and enter your meeting number.
URL:https://passaparola.info/web/eventi/giorno-del-ricordo-anpi-presenta-il-libro-di-davide-conti-online/
END:VEVENT
END:VCALENDAR