BEGIN:VCALENDAR
VERSION:2.0
PRODID:-//PassaParola Magazine - ECPv5.7.0//NONSGML v1.0//EN
CALSCALE:GREGORIAN
METHOD:PUBLISH
X-WR-CALNAME:PassaParola Magazine
X-ORIGINAL-URL:https://passaparola.info/web
X-WR-CALDESC:Eventi per PassaParola Magazine
BEGIN:VTIMEZONE
TZID:Europe/Rome
BEGIN:DAYLIGHT
TZOFFSETFROM:+0100
TZOFFSETTO:+0200
TZNAME:CEST
DTSTART:20220327T010000
END:DAYLIGHT
BEGIN:STANDARD
TZOFFSETFROM:+0200
TZOFFSETTO:+0100
TZNAME:CET
DTSTART:20221030T010000
END:STANDARD
BEGIN:DAYLIGHT
TZOFFSETFROM:+0100
TZOFFSETTO:+0200
TZNAME:CEST
DTSTART:20230326T010000
END:DAYLIGHT
BEGIN:STANDARD
TZOFFSETFROM:+0200
TZOFFSETTO:+0100
TZNAME:CET
DTSTART:20231029T010000
END:STANDARD
END:VTIMEZONE
BEGIN:VEVENT
DTSTART;TZID=Europe/Rome:20230303T200000
DTEND;TZID=Europe/Rome:20230303T220000
DTSTAMP:20260420T094807
CREATED:20230213T213552Z
LAST-MODIFIED:20230213T214530Z
UID:21749-1677873600-1677880800@passaparola.info
SUMMARY:Isabel Green
DESCRIPTION:cie Belladonna presenta\nIsabel Green\ntiré d’une pièce de théâtre de Emanuele Aldrovandi \n\n… une femme qui dit : « Non » à cette société ! Une femme qui résiste à l’aliénation des réseaux sociaux\, de la femme idéale\, et du capitalisme \n\navec \nValentina Vandelli\ndans le rôle de Isabel Green \n\nVendredi 3 et samedi 4 mars 2023\n20h00\n\n\n\nMise en scène : Valentin Ehrhardt  \nInterprétation : Valentina Vandelli (actrice) et Denis Jarosinski (musicien) \nCréation lumière : Frédéric Toussaint  \nCostumes : Giuseppe Lo Buono
URL:https://passaparola.info/web/eventi/isabel-green/
LOCATION:Centro Culturale Altrimenti\,
END:VEVENT
BEGIN:VEVENT
DTSTART;TZID=Europe/Rome:20230226T170000
DTEND;TZID=Europe/Rome:20230226T180000
DTSTAMP:20260420T094807
CREATED:20230221T151206Z
LAST-MODIFIED:20230221T153509Z
UID:21889-1677430800-1677434400@passaparola.info
SUMMARY:#FMCC23: Théâtre : Itaque
DESCRIPTION:Performance de Artemysia Théâtre
URL:https://passaparola.info/web/eventi/theatre-itaque/
END:VEVENT
BEGIN:VEVENT
DTSTART;TZID=Europe/Rome:20230226T160000
DTEND;TZID=Europe/Rome:20230226T170000
DTSTAMP:20260420T094807
CREATED:20230221T144656Z
LAST-MODIFIED:20230221T153538Z
UID:21871-1677427200-1677430800@passaparola.info
SUMMARY:#FMCC23: Accoglienza\, integrazione\, cittadinanza: le sfide per la società del futuro
DESCRIPTION:
URL:https://passaparola.info/web/eventi/accoglienza-integrazione-cittadinanza-le-sfide-per-la-societa-del-futuro/
END:VEVENT
BEGIN:VEVENT
DTSTART;TZID=Europe/Rome:20230226T143000
DTEND;TZID=Europe/Rome:20230226T153000
DTSTAMP:20260420T094807
CREATED:20230221T145911Z
LAST-MODIFIED:20230221T153557Z
UID:21886-1677421800-1677425400@passaparola.info
SUMMARY:#FMCC23: Des mots écrits aux mots criès: débat sur la violence faite aux femmes
DESCRIPTION:
URL:https://passaparola.info/web/eventi/des-mots-ecrits-aux-mots-cries-debat-sur-la-violence-faite-aux-femmes/
END:VEVENT
BEGIN:VEVENT
DTSTART;TZID=Europe/Rome:20230226T130000
DTEND;TZID=Europe/Rome:20230226T140000
DTSTAMP:20260420T094807
CREATED:20230221T144841Z
LAST-MODIFIED:20230228T140114Z
UID:21875-1677416400-1677420000@passaparola.info
SUMMARY:#FMCC23: L'Africa tra passato e presente. Lumumba e Sankara: due eroi della liberazione dal colonialismo
DESCRIPTION:l’incontro con il Prof. Davide Rossi\, autore di due interessanti monografie dedicate ai due eroi della lotta anti-coloniale in Africa: Thomas Sankara e Patrice Lumumba. L’autore ci guiderà nella comprensione della storia presente dell’Africa subsahariana\, degli interessi in gioco e del progetto panafricano dei due protagonisti politici brutalmente assassinati proprio per le loro aspirazioni di libertà e indipendenza. \nAppuntamento: \n“L’Africa tra passato e presente. Lumumba e Sankara: due eroi della liberazione dal colonialismo. ”\nDomenica 26 Febbraio 2023\, Sala 2A\, ore 13:00.\nLUXEPO\, 10 Circuit de La Foire Internationale\, 1347 Luxembourg \nL’incontro sarà trasmesso anche in collegamento online: chi è interessato\, è pregato di rispondere a questa email per avere il link di accesso. Sarà garantita la traduzione in Italiano e Francese. \nRicordiamo inoltre che la nostra Sezione sarà presente con uno stand nelle 2 giornate di Sabato 25 e Domenic 26 del “Festival des Migrations\, des Cultures et de la Citoyenneté”. Sono disponibili le tessere ANPI 2023 per il rinnovo.
URL:https://passaparola.info/web/eventi/lafrica-tra-passato-e-presente-lumumba-e-sankara-due-eroi-della-liberazione-dal-colonialismo/
END:VEVENT
BEGIN:VEVENT
DTSTART;TZID=Europe/Rome:20230225T173000
DTEND;TZID=Europe/Rome:20230225T183000
DTSTAMP:20260420T094807
CREATED:20230221T145414Z
LAST-MODIFIED:20230221T153613Z
UID:21883-1677346200-1677349800@passaparola.info
SUMMARY:#FMCC23: Quels sont les droits des citoyens europèens rèsidant à l'étranger au sei n de l'UE
DESCRIPTION:
URL:https://passaparola.info/web/eventi/quels-sont-les-droits-des-citoyens-europeens-residant-a-letranger-au-sei-n-de-lue/
END:VEVENT
BEGIN:VEVENT
DTSTART;TZID=Europe/Rome:20230225T130000
DTEND;TZID=Europe/Rome:20230225T140000
DTSTAMP:20260420T094807
CREATED:20230221T144950Z
LAST-MODIFIED:20230221T154412Z
UID:21877-1677330000-1677333600@passaparola.info
SUMMARY:#FMCC23: L’Arrivée de la Jeunesse: proiezione e dibattito con il regista Fabio Bottani e l’attrice Mirka Costanzi
DESCRIPTION:
URL:https://passaparola.info/web/eventi/larrivee-de-la-jeunesse-seguira-poi-un-dibattito-con-il-regista-fabio-bottani-e-lattrice-mirka-costanzi/
CATEGORIES:Évènement PassaParola
END:VEVENT
BEGIN:VEVENT
DTSTART;TZID=Europe/Rome:20230224T100000
DTEND;TZID=Europe/Rome:20230224T170000
DTSTAMP:20260420T094807
CREATED:20231223T145857Z
LAST-MODIFIED:20231223T145949Z
UID:25884-1677232800-1677258000@passaparola.info
SUMMARY:Atelier de chant italien
DESCRIPTION:R En compagnie de la chanteuse Stephany Ortega\, participez à un voyage musical autour de chansons populaires italiennes. Cet atelier s’adresse à toute personne curieuse et désireuse de faire vibrer ses cordes vocales et/ou de compléter son répertoire. \nPas de connaissance linguistiques requise ! L’atelier sera suivi d’un moment convivial au bar de l’Ariston autour de spécialités italiennes (inclus dans le prix du billet). \nIT In compagnia della cantante Stephany Ortega\, partecipa ad un viaggio musicale attraverso canzoni popolari italiane. Questo workshop è rivolto a tutti coloro che sono curiosi e vogliono far vibrare le proprie corde vocali e/o arricchire il proprio repertorio. \nNessuna competenza linguistica richiesta! Al workshop seguirà un momento conviviale all’insegna delle specialità italiane presso il bar Ariston (compreso nel prezzo del biglietto).
URL:https://passaparola.info/web/eventi/atelier-de-chant-italien/
END:VEVENT
BEGIN:VEVENT
DTSTART;TZID=Europe/Rome:20230219T180000
DTEND;TZID=Europe/Rome:20230219T200000
DTSTAMP:20260420T094807
CREATED:20230210T065159Z
LAST-MODIFIED:20230210T065353Z
UID:21663-1676829600-1676836800@passaparola.info
SUMMARY:FINAZ-FRY MONETTI ft GIACOMO LARICCIA
DESCRIPTION:
URL:https://passaparola.info/web/eventi/finaz-fry-monetti-ft-giacomo-lariccia/
LOCATION:BEIM DER GARE\, 8\, JOSEPH JUNCK\, Lussemburgo
ATTACH;FMTTYPE=image/jpeg:https://passaparola.info/web/wp-content/uploads/2023/02/TMA-19-3.jpg
END:VEVENT
BEGIN:VEVENT
DTSTART;TZID=Europe/Rome:20230209T190000
DTEND;TZID=Europe/Rome:20230209T190000
DTSTAMP:20260420T094807
CREATED:20230122T112301Z
LAST-MODIFIED:20230131T130538Z
UID:21311-1675969200-1675969200@passaparola.info
SUMMARY:Com.It.Es/ Brindisi di buon anno
DESCRIPTION:Il Com.It.Es Lussemburgo è lieto di invitarVi al brindisi di buon anno\,\nil 9 febbraio 2023 alle ore 19 presso la sede del CLAE ( 26\, rue de\nGasperich \, L-1617 Luxembourg). \nSarà una serata di incontro e di confronto\, ripercorreremo insieme il\nprimo anno di attività del Com.It.Es. \nVi preghiamo di comunicare la vostra presenza entro il 2 febbraio 2023. \n 
URL:https://passaparola.info/web/eventi/brindisi-di-buon-anno/
END:VEVENT
BEGIN:VEVENT
DTSTART;TZID=Europe/Rome:20230209T173000
DTEND;TZID=Europe/Rome:20230209T173000
DTSTAMP:20260420T094807
CREATED:20221221T143107Z
LAST-MODIFIED:20221222T091251Z
UID:21051-1675963800-1675963800@passaparola.info
SUMMARY:L'Arrivée de la Jeunesse (ADLJ) à Thionville
DESCRIPTION:
URL:https://passaparola.info/web/eventi/larrivee-de-la-jeunesse-adlj-a-thionville/
CATEGORIES:Évènement PassaParola
ATTACH;FMTTYPE=image/jpeg:https://passaparola.info/web/wp-content/uploads/2022/09/locandina_film-page-001-scaled.jpg
END:VEVENT
BEGIN:VEVENT
DTSTART;TZID=Europe/Rome:20230208T190000
DTEND;TZID=Europe/Rome:20230208T190000
DTSTAMP:20260420T094807
CREATED:20230131T130425Z
LAST-MODIFIED:20230131T211015Z
UID:21457-1675882800-1675882800@passaparola.info
SUMMARY:Perché credere in questa Europa?
DESCRIPTION:Presentazione del libro del prof. Carlo degli Abbati alla LIL
URL:https://passaparola.info/web/eventi/perche-credere-in-questa-europa/
END:VEVENT
BEGIN:VEVENT
DTSTART;TZID=Europe/Rome:20230206T190000
DTEND;TZID=Europe/Rome:20230206T210000
DTSTAMP:20260420T094807
CREATED:20220927T091559Z
LAST-MODIFIED:20221221T143002Z
UID:20270-1675710000-1675717200@passaparola.info
SUMMARY:L'Arrivée de la Jeunesse (ADLJ) à Diderich
DESCRIPTION:
URL:https://passaparola.info/web/eventi/larrivee-de-la-jeunesse-adlj-a-hesperange/
END:VEVENT
BEGIN:VEVENT
DTSTART;TZID=Europe/Rome:20230205T150000
DTEND;TZID=Europe/Rome:20230205T170000
DTSTAMP:20260420T094807
CREATED:20230122T131338Z
LAST-MODIFIED:20230122T131425Z
UID:21351-1675609200-1675616400@passaparola.info
SUMMARY:Atelier di marionette con Paolo Scarpato
DESCRIPTION:
URL:https://passaparola.info/web/eventi/atelier-di-marionette-con-paolo-scarpato/
LOCATION:LIL
END:VEVENT
BEGIN:VEVENT
DTSTART;TZID=Europe/Rome:20230202T200000
DTEND;TZID=Europe/Rome:20230202T203000
DTSTAMP:20260420T094807
CREATED:20230120T111633Z
LAST-MODIFIED:20230120T111853Z
UID:21264-1675368000-1675369800@passaparola.info
SUMMARY:Pippo Pollina & Palermo Acoustic Quintet Canzoni Segrete Europa Tour
DESCRIPTION:Pippo Pollina est l’un des auteurs-compositeurs italiens les plus populaires\, comptant à son actif plus de 4 000 concerts dans toute l’Europe. Les ballades lyriques\, les chansons de protestation poétiques et les morceaux de rock sont le reflet de la créativité débridée de la coqueluche du public de Dudelange\, qui se produira pour la troisième fois au centre culturel opderschmelz le 2 février 2023. \n  \nhttps://apps.ticketmatic.com/widgets/opderschmelz/flow/web?event=399578960892&l=#!/addtickets
URL:https://passaparola.info/web/eventi/pippo-pollina-in-concerto/
END:VEVENT
BEGIN:VEVENT
DTSTART;TZID=Europe/Rome:20230201T190000
DTEND;TZID=Europe/Rome:20230201T190000
DTSTAMP:20260420T094808
CREATED:20230122T131019Z
LAST-MODIFIED:20230122T131141Z
UID:21346-1675278000-1675278000@passaparola.info
SUMMARY:Incontro con Jean Portante
DESCRIPTION:Alla LIL incontro con Jean Portante\, scrittore\, poeta e traduttore. Dialogherà con lui Maria Luisa Caldognetto. \nPer confermare la vostra partecipazione inviare un’e-mail a: libreriaitaliana.lu@gmail.com
URL:https://passaparola.info/web/eventi/incontro-con-jean-portante/
END:VEVENT
BEGIN:VEVENT
DTSTART;TZID=Europe/Rome:20230127T100000
DTEND;TZID=Europe/Rome:20230127T170000
DTSTAMP:20260420T094808
CREATED:20221221T144000Z
LAST-MODIFIED:20221221T144000Z
UID:21058-1674813600-1674838800@passaparola.info
SUMMARY:Giornata della Memoria/Journée de la Mémoire
DESCRIPTION:Evento ANPI in collaborazione con Libreria Italiana Lussemburgo\, Circolo Culturale Eugenio Curiel e PassaParola Media Group. \nCon il patrocinio dell’Ambasciata d’Italia a Lussemburgo \nSeguiranno dettagli
URL:https://passaparola.info/web/eventi/giornata-della-memoria-journee-de-la-memoire/
END:VEVENT
BEGIN:VEVENT
DTSTART;TZID=Europe/Rome:20230125T190000
DTEND;TZID=Europe/Rome:20230125T190000
DTSTAMP:20260420T094808
CREATED:20230105T104934Z
LAST-MODIFIED:20230105T104934Z
UID:21137-1674673200-1674673200@passaparola.info
SUMMARY:Punti di vista
DESCRIPTION:Incontri promossi dalla LIL e dedicati alle ultime uscite letterarie\, e non solo. \nPer il primo incontro del 2023 abbiamo scelto Lezioni di felicità di Ilaria Gaspari. \nPotete confermare la vostra partecipazione inviando un’e-mail a: libreriaitaliana.lu@gmail.com
URL:https://passaparola.info/web/eventi/punti-di-vista/
END:VEVENT
BEGIN:VEVENT
DTSTART;TZID=Europe/Rome:20230123T190000
DTEND;TZID=Europe/Rome:20230123T190000
DTSTAMP:20260420T094808
CREATED:20230120T111951Z
LAST-MODIFIED:20230120T132120Z
UID:21268-1674500400-1674500400@passaparola.info
SUMMARY:"Arance amare" lettura bilingue
DESCRIPTION:Bittere Orangen\nArance amare\n23. Januar 2023\n19h00\nEscher Bibliothéik
URL:https://passaparola.info/web/eventi/arance-amare-lettura-bilingue/
LOCATION:Escher Bibliothéik
END:VEVENT
BEGIN:VEVENT
DTSTART;TZID=Europe/Rome:20230120T190000
DTEND;TZID=Europe/Rome:20230120T203000
DTSTAMP:20260420T094808
CREATED:20230105T104729Z
LAST-MODIFIED:20230105T104810Z
UID:21134-1674241200-1674246600@passaparola.info
SUMMARY:Presentazione del libro "Mes meilleures années"
DESCRIPTION:  \n\n\n\n\n\n\n\n\n\n\n\n\n\n\n\n\n\nPresentazione del libro di Oreste Sacchelli “Mes meilleures année – Le cinéma de Marco Tullio Giordana”. \nDialogherà con l’autore Remo Ceccarelli. \nPotete confermare la vostra partecipazione inviando un’e-mail a: libreriaitaliana.lu@gmail.com \n\n\n\n\n\n\n\n\n\n\n\n\n\n\n\n\n\n 
URL:https://passaparola.info/web/eventi/presentazione-del-libro-mes-meilleures-annees/
END:VEVENT
BEGIN:VEVENT
DTSTART;TZID=Europe/Rome:20230120T190000
DTEND;TZID=Europe/Rome:20230120T190000
DTSTAMP:20260420T094808
CREATED:20221221T143339Z
LAST-MODIFIED:20221222T085753Z
UID:21053-1674241200-1674241200@passaparola.info
SUMMARY:Table Quiz in italiano
DESCRIPTION:
URL:https://passaparola.info/web/eventi/table-quiz-in-italiano/
ATTACH;FMTTYPE=image/jpeg:https://passaparola.info/web/wp-content/uploads/2022/12/table-quiz.jpeg
END:VEVENT
BEGIN:VEVENT
DTSTART;TZID=Europe/Rome:20230118T190000
DTEND;TZID=Europe/Rome:20230118T203000
DTSTAMP:20260420T094808
CREATED:20230103T162215Z
LAST-MODIFIED:20230103T162307Z
UID:21102-1674068400-1674073800@passaparola.info
SUMMARY:Conferenza “L’Orientamento Universitario"
DESCRIPTION:La commissione Migrazioni\, Lavoro e Diritti Civili del Com.It.Es. Lussemburgo è lieta d’invitarvi alla video Conferenza zoom: “L’Orientamento Universitario: corsi di studio universitari\, Procedure di iscrizione\, Test di ingresso. \nrelatrice dottoressa Flora Golini Insegnante e Membro COMITES \nLa conferenza guiderà studenti (ed anche i genitori) a districarsi fra Corsi di studio universitari\, Procedure di iscrizione\, Test di ingresso e come accedere agli aiuti finanziari in Lussemburgo ed Italia. \nLa Videoconferenza\, in Lingua Italiana\, è organizzata dai “COMITES.lu” con il patrocinio dell’Ambasciata d’Italia in Lussemburgo. \nPer partecipare è necessario chiedere il codice d’accesso a: \ncomites.informa@comites.lu \nLa sua partecipazione\, e quella di tutti gli iscritti alla sua associazione\, è benvenuta.
URL:https://passaparola.info/web/eventi/conferenza-lorientamento-universitario/
END:VEVENT
BEGIN:VEVENT
DTSTART;TZID=Europe/Rome:20230116T200000
DTEND;TZID=Europe/Rome:20230116T220000
DTSTAMP:20260420T094808
CREATED:20230112T171432Z
LAST-MODIFIED:20230112T171557Z
UID:21231-1673899200-1673906400@passaparola.info
SUMMARY:Le Chant des vivants\,  un film de Cécile Allegra
DESCRIPTION:
URL:https://passaparola.info/web/eventi/le-chant-des-vivants-un-film-de-cecile-allegra/
LOCATION:klub cinema Art & Essaye de Metz
END:VEVENT
BEGIN:VEVENT
DTSTART;TZID=Europe/Rome:20230115T153000
DTEND;TZID=Europe/Rome:20230115T170000
DTSTAMP:20260420T094808
CREATED:20230105T105110Z
LAST-MODIFIED:20230105T105110Z
UID:21139-1673796600-1673802000@passaparola.info
SUMMARY:Letture in libreria per bambine e bambini
DESCRIPTION:Bambine e bambini vi aspettiamo in libreria domenica 15 gennaio alle 15:30  per leggere insieme a Trotty tante meravigliose storie! \nPotete confermare la vostra partecipazione inviando un’e-mail a: libreriaitaliana.lu@gmail.com
URL:https://passaparola.info/web/eventi/letture-in-libreria-per-bambine-e-bambini/
END:VEVENT
BEGIN:VEVENT
DTSTART;TZID=Europe/Rome:20230108T110000
DTEND;TZID=Europe/Rome:20230108T120000
DTSTAMP:20260420T094808
CREATED:20230107T151328Z
LAST-MODIFIED:20230107T151353Z
UID:21160-1673175600-1673179200@passaparola.info
SUMMARY:Flavio Perrella & 3D Orchestra - Fly's Memory
DESCRIPTION:L’écriture et la sonorité d’un quatuor à cordes classique se marie aux percussions traditionnelles iraniennes dafs et zarbs\, le tout dans une logique d’improvisation. \n  \n\n\n\n Tout public\n 60 minutes\n\n\n\n Salle Robert Krieps \n\n\nPlein tarif 6€\nKulturpass 1.5€\n\n\n\n08.01 DIMANCHE11:00 \n\n\nTicket
URL:https://passaparola.info/web/eventi/flavio-perrella-3d-orchestra-flys-memory/
LOCATION:Neimenster
END:VEVENT
BEGIN:VEVENT
DTSTART;TZID=Europe/Rome:20221217T190000
DTEND;TZID=Europe/Rome:20221217T210000
DTSTAMP:20260420T094808
CREATED:20221202T190521Z
LAST-MODIFIED:20221202T190710Z
UID:20921-1671303600-1671310800@passaparola.info
SUMMARY:Festa di S. Ambrogio con l'Ass. culturale Lombardi Lussemburgo
DESCRIPTION:Associazione Culturale dei Lombardi- Lussemburgo \n  \n  \nStrassen\, 2 dicembre 2022 \n  \nCari amici\, \nanche quest’anno organizziamo in occasione della festa di S. Ambrogio una  cena allo scopo di riunirci e farci anche gli auguri di buon Natale e felice Anno nuovo. \nL’incontro avrà luogo: \nSabato 17 dicembre alle ore 19:00\nal Ristorante Como\n19 Rue des Remparts\n4303 Esch-sur-Alzette \nTutti i soci\, familiari ed amici sono cordialmente invitati a partecipare a questo incontro. \nPer ragioni organizzative\, chi desidera partecipare è pregato di dare la propria adesione entro il 15 dicembre 2022 \no telefonando al numero 311263 \no inviando un’e-mail di risposta a associazionelombardilux@hotmail.com \nVi attendiamo numerosi! \nCordiali saluti \n\nil comitato direttivo\nMaria Sartori-Plebani\n– segretaria –\n\n  \np.s. Come da consuetudine le bevande sono offerte dall’Associazione
URL:https://passaparola.info/web/eventi/20921/
END:VEVENT
BEGIN:VEVENT
DTSTART;TZID=Europe/Rome:20221212T190000
DTEND;TZID=Europe/Rome:20221212T203000
DTSTAMP:20260420T094808
CREATED:20221128T215450Z
LAST-MODIFIED:20221128T215532Z
UID:20902-1670871600-1670877000@passaparola.info
SUMMARY:Incontro con Andrea Crisanti
DESCRIPTION:
URL:https://passaparola.info/web/eventi/20902/
END:VEVENT
BEGIN:VEVENT
DTSTART;TZID=Europe/Rome:20221212T170000
DTEND;TZID=Europe/Rome:20221212T190000
DTSTAMP:20260420T094808
CREATED:20220927T084003Z
LAST-MODIFIED:20220927T084119Z
UID:20236-1670864400-1670871600@passaparola.info
SUMMARY:L’avènement du Fascisme en Italie : la crise d’après-guerre et la marche sur Rome
DESCRIPTION:Lundi 12 décembre 2022\, à 17h00\, Campus Limpertsberg\, BS 0.03\, au 162A\, rue de la\nFaïencerie\, à Luxembourg\, conférence par le professeur Sibilla CUOGHI. \n2022 : cent ans sont passés depuis que Mussolini prit le pouvoir par la force et que le roi\, Vittorio Emanuele III\, ne voulut pas contrecarrer\, comme il aurait pu le faire en faisant appel à l’intervention de l’armée. Mais quelle est la situation de l’après-guerre en Italie ?\nLe Pays sortait d’une guerre victorieuse (en théorie)\, de laquelle les ministres à Versailles\nn’avaient pas su tirer les avantages espérés : de là le mythe de la « victoire mutilée » et la méfiance envers la classe dirigeante du Pays.\nLes soldats revenaient du front après avoir vu mourir la plupart de leurs camarades (plus de 600.000 morts) et s’attendaient\, comme les autorités leur avaient promis\, de s’intégrer à la vie civile à travers un poste de travail et de meilleures conditions économiques. Mais la crise d’après-guerre créait des millions de gens au chômage et\, comme conséquence directe\, l’essor des mouvements politiques de gauche\, des revendications syndicales ouvrières et paysannes\, des grèves et enfin d’occupations des usines. Ce fut une tentative maladroite de révolution sociale influencée par l’exemple de la Russie soviétique.\nLes désordres des années 1919/1920 poussent les forces conservatrices à réagir avec dureté et violence\, en s’opposant aux initiatives syndicales et politiques de gauche par le financement du parti fasciste\, fondé en 1919\, qui promettait en finir avec les désordres et les associations ouvrières et paysannes par le biais de la violence\, la destruction\, l’assassinat. En ce climat\, la marche sur Rome de 1922 représenta l’acte final de l‘Italie libérale et constitutionnelle.
URL:https://passaparola.info/web/eventi/lavenement-du-fascisme-en-italie-la-crise-dapres-guerre-et-la-marche-sur-rome/
END:VEVENT
BEGIN:VEVENT
DTSTART;TZID=Europe/Rome:20221212T123000
DTEND;TZID=Europe/Rome:20221212T140000
DTSTAMP:20260420T094808
CREATED:20221209T204351Z
LAST-MODIFIED:20221209T204351Z
UID:20939-1670848200-1670853600@passaparola.info
SUMMARY:Brani interculturali nella letteratura italiana
DESCRIPTION:
URL:https://passaparola.info/web/eventi/brani-interculturali-nella-letteratura-italiana/
END:VEVENT
BEGIN:VEVENT
DTSTART;TZID=Europe/Rome:20221211T190000
DTEND;TZID=Europe/Rome:20221211T203000
DTSTAMP:20260420T094808
CREATED:20221027T171925Z
LAST-MODIFIED:20221027T171930Z
UID:20543-1670785200-1670790600@passaparola.info
SUMMARY:Il matrimonio era ieri
DESCRIPTION:
URL:https://passaparola.info/web/eventi/il-matrimonio-era-ieri-2/
END:VEVENT
END:VCALENDAR