BEGIN:VCALENDAR
VERSION:2.0
PRODID:-//PassaParola Magazine - ECPv5.7.0//NONSGML v1.0//EN
CALSCALE:GREGORIAN
METHOD:PUBLISH
X-WR-CALNAME:PassaParola Magazine
X-ORIGINAL-URL:https://passaparola.info/web
X-WR-CALDESC:Eventi per PassaParola Magazine
BEGIN:VTIMEZONE
TZID:Europe/Rome
BEGIN:DAYLIGHT
TZOFFSETFROM:+0100
TZOFFSETTO:+0200
TZNAME:CEST
DTSTART:20230326T010000
END:DAYLIGHT
BEGIN:STANDARD
TZOFFSETFROM:+0200
TZOFFSETTO:+0100
TZNAME:CET
DTSTART:20231029T010000
END:STANDARD
END:VTIMEZONE
BEGIN:VEVENT
DTSTART;TZID=Europe/Rome:20230521T153000
DTEND;TZID=Europe/Rome:20230521T170000
DTSTAMP:20260420T034538
CREATED:20230503T191811Z
LAST-MODIFIED:20230503T191917Z
UID:22759-1684683000-1684688400@passaparola.info
SUMMARY:Letture in libreria con Trotty (2-7 anni)
DESCRIPTION:Potete confermare la vostra partecipazione inviando un’e-mail a: libreriaitaliana.lu@gmail.com
URL:https://passaparola.info/web/eventi/letture-in-libreria-con-trotty/
END:VEVENT
BEGIN:VEVENT
DTSTART;TZID=Europe/Rome:20230521T130000
DTEND;TZID=Europe/Rome:20230521T143000
DTSTAMP:20260420T034538
CREATED:20230501T201342Z
LAST-MODIFIED:20230501T201619Z
UID:22730-1684674000-1684679400@passaparola.info
SUMMARY:TANTE VOCI al "Passages Transfestival Transitalia" di Metz
DESCRIPTION:TANTE VOCI et Transfestival PASSAGES “Transitalia” \n  \nL’atelier vocal « Tante Voci » s’est constitué en 2009 pour faire vivre le magnifique répertoire des chants populaires italiens issus de la tradition orale\, dans la région Lorraine\, aux frontières chahutées par l’Histoire\, mais aussi  au – delà… \n« Tante Voci » participera au prochain évènement de Passages Transfestival à Metz – Edition Transitalia 2023\nle 21 mai à 13 h00 – Tipi  \nSous la houlette de Tania Pividori\, le chœur animera les festivités de clôture\, le dimanche 21 Mai à 13 H00 au cours d’un antipasto brunch festif dans le TIPI \nIl vous proposera un voyage parcourant la péninsule italienne du Nord au Sud\, au fil de chants\, célébrant le cycle de la vie\, la poésie\, le plaisir de chanter. \nLes polyphonies sont toutes liées à une fonction ou à un rituel. Ces chants sont des histoires qui nous parlent des joies et des peines\,\ndu travail\, des mouvements sociaux ou révolutionnaires\, des miracles\, et bien sûr de l’amour…. \nEn 2022\, en collaboration avec trois artistes professionnels\, l’association a créé un spectacle original « Frontière(s) »  Explorations vocales\, théâtrales\, poétiques et visuelles :\nune odyssée illustrée par des textes et chants de migration\, d’amour\,  mémoires universelles des traversées de frontières visibles ou invisibles… \nTania PIVIDORI est chanteuse\, auteure\, compositrice\, membre du quatuor « SANACORE ». \nVenez redécouvrir ce joyau musical qu’est l’Italie !
URL:https://passaparola.info/web/eventi/tante-voci-et-transfestival-passages-transitalia/
END:VEVENT
BEGIN:VEVENT
DTSTART;TZID=Europe/Rome:20230521T103000
DTEND;TZID=Europe/Rome:20230521T113000
DTSTAMP:20260420T034538
CREATED:20230405T090925Z
LAST-MODIFIED:20230501T202147Z
UID:22384-1684665000-1684668600@passaparola.info
SUMMARY:LADJ a Milano
DESCRIPTION:Proiezione del docu-film presso il cinema ANTEO (Piazza 25 aprile)\, ore 10\,30 \n  \n  \n 
URL:https://passaparola.info/web/eventi/ladj-a-milano/
END:VEVENT
BEGIN:VEVENT
DTSTART;TZID=Europe/Rome:20230521T100000
DTEND;TZID=Europe/Rome:20230521T170000
DTSTAMP:20260420T034538
CREATED:20230519T160230Z
LAST-MODIFIED:20230519T160319Z
UID:23079-1684663200-1684688400@passaparola.info
SUMMARY:Messe in italiano
DESCRIPTION:DOMENICA 21 MAGGIO \nSaint-Michel 10h00 Santa Messa (consegna Tau e pergamena a quanti hanno fatto la prima confessione) \nSaint-Michel 11h00 Santa Messa (fidanzati in preparazione al matrimonio) \nBonnevoie 17h00 Luturgia della Parola
URL:https://passaparola.info/web/eventi/23079/
END:VEVENT
BEGIN:VEVENT
DTSTART;TZID=Europe/Rome:20230520T170000
DTEND;TZID=Europe/Rome:20230520T180000
DTSTAMP:20260420T034538
CREATED:20230519T160405Z
LAST-MODIFIED:20230519T160514Z
UID:23082-1684602000-1684605600@passaparola.info
SUMMARY:Messa in italiano
DESCRIPTION:SABATO 20 MAGGIO \nBonnevoie 17h00 Santa Messa in onore di San Pio (consegna Tau e pergamena a quanti hanno fatto la prima confessione)
URL:https://passaparola.info/web/eventi/messa-in-italiano/
END:VEVENT
BEGIN:VEVENT
DTSTART;TZID=Europe/Rome:20230516T180000
DTEND;TZID=Europe/Rome:20230516T200000
DTSTAMP:20260420T034538
CREATED:20230501T200537Z
LAST-MODIFIED:20230501T200926Z
UID:22721-1684260000-1684267200@passaparola.info
SUMMARY:Présentation du livre et de l’expo Les Exclus du Festin
DESCRIPTION:EXPOSITION LES EXCLUS DU FESTIN\nLa pauvreté au Luxembourg \nLa pauvreté chez les riches : impressions de voyage dans un monde méconnu et pourtant si proche\, parmi les pauvres et les travailleurs sociaux au Luxembourg… \nMARDI 16 MAI 2023\nà la Chambre des salariés(2-4 rue Pierre Hentges L-1726 Luxembourg)\nPROGRAMME\n18h00 – 20h00\nMot de bienvenue de Nora BACK \nPrésidente de la CSL\nIntervention de Claude FRISONI\nTexte\nIntervention de Raymond REUTER\nPhotos\nRéception offerte par la CSL \n  \nDu 16 mai au 15 septembre 2023\nà la Chambre des salariés\n2-4 rue Pierre Hentges\, L-1726 Luxembourg\n(Entrée libre du lundi au vendredi de 08h00-19h00)\nDu 16 mai au 16 juillet 2023\ndans la Gare du Luxembourg\nhall et passerelle\nAvec le soutien du Groupe CFL \n 
URL:https://passaparola.info/web/eventi/presentation-du-livre-et-de-lexpo-les-exclus-du-festin/
ATTACH;FMTTYPE=image/png:https://passaparola.info/web/wp-content/uploads/2023/05/frisoni.png
END:VEVENT
BEGIN:VEVENT
DTSTART;TZID=Europe/Rome:20230514T163000
DTEND;TZID=Europe/Rome:20230514T173000
DTSTAMP:20260420T034538
CREATED:20230503T191535Z
LAST-MODIFIED:20230503T191657Z
UID:22756-1684081800-1684085400@passaparola.info
SUMMARY:Presentazione del libro "Arcipelago" con l'autore David Santoro
DESCRIPTION:Arcipelago è una mappa che descrive molte isole\, reali e immaginarie\, fisiche e letterarie\, tutte a loro modo esistenti e dotate di una propria personalità. Attraverso racconti\, notizie e riflessioni\, il lettore percorrerà una rotta che lo porterà ad avvistarle e\, in alcuni casi\, anche ad approdarvi. Perché le isole sanno essere subdole e nascondersi – magari sotto la superficie dell’acqua\, dietro una cortina di parole o sotto una ricaduta radioattiva – o apparire dove non sono. Ecco che allora occorre andarle a stanare.”\n\nPotete confermare la vostra partecipazione inviando un’e-mail a: libreriaitaliana.lu@gmail.com
URL:https://passaparola.info/web/eventi/presentazione-del-libro-arcipelago-con-lautore-david-santoro/
END:VEVENT
BEGIN:VEVENT
DTSTART;TZID=Europe/Rome:20230513T190000
DTEND;TZID=Europe/Rome:20230513T210000
DTSTAMP:20260420T034538
CREATED:20230503T191012Z
LAST-MODIFIED:20230503T191101Z
UID:22754-1684004400-1684011600@passaparola.info
SUMMARY:Récital avec le duo Bandini - Chiacchiaretta (Italie)
DESCRIPTION:Samedi 13 mai / 19h00 Auditorium (Conservatoire de la Ville de Luxembourg)Entrée libre\n\n\nCe duo formé par Giampaolo Bandini (guitare) et Cesare Chiacchiaretta (bandonéon) met à l’honneur les musiques d’Argentine à travers le charme et la magie de deux de ses instruments les plus représentatifs. Ils sont une vraie référence au niveau international\, notamment par leur grande expressivité et leur incroyable charisme. Invité dans les plus importants festivals et salles de concerts\, ils ont joué dans plus de 50 pays à travers le monde et reçu un accueil unanime du public et des critiques. \n​ \nConcert suivi par une réception de L’Ambassade d’Italie au Luxembourg.
URL:https://passaparola.info/web/eventi/recital-avec-le-duo-bandini-chiacchiaretta-italie/
END:VEVENT
BEGIN:VEVENT
DTSTART;TZID=Europe/Rome:20230509T183000
DTEND;TZID=Europe/Rome:20230509T203000
DTSTAMP:20260420T034538
CREATED:20230405T090752Z
LAST-MODIFIED:20230405T090908Z
UID:22380-1683657000-1683664200@passaparola.info
SUMMARY:LADJ a Rumelange
DESCRIPTION:Proiezione del docu-film presso il Musée National des Mines de Fer Luxembourgeoises \n(orario da confermare)
URL:https://passaparola.info/web/eventi/ladj/
END:VEVENT
BEGIN:VEVENT
DTSTART;TZID=Europe/Rome:20230508T180000
DTEND;TZID=Europe/Rome:20230508T190000
DTSTAMP:20260420T034538
CREATED:20230507T085801Z
LAST-MODIFIED:20230507T090859Z
UID:22795-1683568800-1683572400@passaparola.info
SUMMARY:Octave 2023: Messa della comunità italiana
DESCRIPTION:OCTAVE 2023 \n“Marie\, signe d’espérance et de consolation” \nMESSA DELLA COMUNITÀ ITALIANA \nCathédrale de Luxembourg \nlunedì 8 maggio alle 18h00 \nCerchiamo di sensibilizzare le famiglie dei ragazzi che frequentano il catechismo\, gruppi di preghiera\, fedeli\, ecc… \nÈ l’unico appuntamento annuale per gli italiani presenti in Lussemburgo.
URL:https://passaparola.info/web/eventi/messa-della-comunita-italiana/
LOCATION:Cathédrale de Luxembourg
END:VEVENT
BEGIN:VEVENT
DTSTART;TZID=Europe/Rome:20230503T080000
DTEND;TZID=Europe/Rome:20230521T170000
DTSTAMP:20260420T034538
CREATED:20230426T114314Z
LAST-MODIFIED:20230426T114655Z
UID:22628-1683100800-1684688400@passaparola.info
SUMMARY:Passages Transfestival - édition 2023 03- 21 MAI 2023 | TransItalia Metz
DESCRIPTION:Passages Transfestival – édition 2023 03- 21 MAI 2023 | Transitalia Metz \nEmbarquement immédiat pour une nouvelle édition festive qui insufflera un air bouillonnant aux 4 coins de la ville de Metz et de sa métropole. Passages Transfestival vous transportera en Italie à travers ses mythes\, ses migrations\, et même au-delà des frontières latines\, via plus d’une trentaine de spectacles transdisciplinaires\, rencontres\, concerts\, projections\, ateliers… À vivre intensément ! \nℹ️ Infos & Programme ▸▸www.passages-transfestival.fr  \n🎟️ Billetterie Sur notre site internet : www.passages-transfestival.fr Par téléphone : 07 49 79 04 58
URL:https://passaparola.info/web/eventi/22628/
ATTACH;FMTTYPE=image/png:https://passaparola.info/web/wp-content/uploads/2023/04/transitalia.png
END:VEVENT
BEGIN:VEVENT
DTSTART;TZID=Europe/Rome:20230502T200000
DTEND;TZID=Europe/Rome:20230505T200000
DTSTAMP:20260420T034538
CREATED:20230421T174912Z
LAST-MODIFIED:20230421T175518Z
UID:22592-1683057600-1683316800@passaparola.info
SUMMARY:Spettacolo "Abysses" Davide Enia - Alexandra Tobelaim
DESCRIPTION:Le Théâtre NEST (15 route de Manom 57100 Thionville)\, qui a le label Centre Dramatique National\, monte un spectacle intitulé ABYSSES dédié à Lampedusa. Le spectacle est sur le site du NEST https://www.nest-theatre.fr/saison/22-23/abysses-811\n\n\nAujourd’hui\, un père et un fils regardent l’Histoire se dérouler sous leurs yeux\, sur un rivage en Italie dans l’immensité de la Méditerranée. Abysses est le récit de la fragilité de la vie et des choses\, où l’expérience de la douleur collective rencontre celle\, intime\, du rapprochement entre deux êtres. Il en résulte une expérience humaine rendue dans toute sa complexité. Ce texte de théâtre-récit est une décharge d’énergie et de courage. Il y a des rencontres\, il y a des fidélités et il y a des urgences. C’est dans ces trois mots que réside la naissance de ce projet.\n\nLes représentations auront lieu les 2\,3 \,4 et 5 mai. à 20H sauf le 3 où ce sera à 19H.
URL:https://passaparola.info/web/eventi/abysses-al-nest/
LOCATION:Théâtre NEST\, 15 route de Manom\, 57100 Thionville
ATTACH;FMTTYPE=image/jpeg:https://passaparola.info/web/wp-content/uploads/2023/04/abysses_l1280xh900.jpg
END:VEVENT
BEGIN:VEVENT
DTSTART;TZID=Europe/Rome:20230430T203000
DTEND;TZID=Europe/Rome:20230430T223000
DTSTAMP:20260420T034538
CREATED:20230426T155558Z
LAST-MODIFIED:20230426T155642Z
UID:22656-1682886600-1682893800@passaparola.info
SUMMARY:Maneskin in concerto
DESCRIPTION:Maneskin Rockhal
URL:https://passaparola.info/web/eventi/maneskin-in-concerto/
END:VEVENT
BEGIN:VEVENT
DTSTART;TZID=Europe/Rome:20230429T213000
DTEND;TZID=Europe/Rome:20230429T213000
DTSTAMP:20260420T034538
CREATED:20230429T075327Z
LAST-MODIFIED:20230429T075419Z
UID:22669-1682803800-1682803800@passaparola.info
SUMMARY:Film "Supereroi" di Paolo Genovese
DESCRIPTION:Synopsis\nL’histoire d’un couple : Anna\, une dessinatrice à la personnalité impulsive et anticonformiste\, et Marco\, un professeur de physique convaincu que tout est régi par une formule mathématique. Une comédie sentimentale sur les couples et l’effet du temps qui passe sur leurs relations\, posant une question simple mais profonde : quels superpouvoirs faut-il avoir pour s’aimer toute une vie ?\n\nActeurs:\nAlessandro Borghi\n\n\nRéalisateur:\nPaolo Genovese\n\n\nVersions:\n\nVersion Italienne (Sous-titres: français/néerlandais)\n\nDisponible en:\n\n\n2D :\nCiné Utopia
URL:https://passaparola.info/web/eventi/film-supereroi-di-paolo-genovese/
LOCATION:Ciné Utopia
END:VEVENT
BEGIN:VEVENT
DTSTART;TZID=Europe/Rome:20230428T183000
DTEND;TZID=Europe/Rome:20230428T200000
DTSTAMP:20260420T034538
CREATED:20230417T213932Z
LAST-MODIFIED:20230417T214145Z
UID:22541-1682706600-1682712000@passaparola.info
SUMMARY:Il Rinascimento e i suoi maestri
DESCRIPTION:La Dante Lussemburgo è lieta di ospitare nuovamente la professoressa Stella Radicati che ci accompagnerà in un viaggio intorno ai grandi artisti del Rinascimento.\nStella sa unire nella sua narrazione una profonda conoscenza dell’arte e la sua visione di artista: una meravigliosa e rara combinazione per la comunità italiana e italofona in Lussemburgo.\nSarà anche l’occasione di rivisitare l’esposizione a roll up dedicata al Perugino\, che la Dante Lussemburgo ha ospitato come prima tappa di un tour presso Centri Culturali in Europa\, grazie al sostegno dell’Ambasciata Italiana in Lussemburgo.\nVi aspettiamo\nVenerdi’ 28 aprile 2023 alle 18:30\npresso la sede della Dante\, Rue St. Ulric 25\, nel Grund\n\nLa conferenza sarà seguita da vin d’honneur e stuzzichini.Soci: 10 euro\, non soci: 12 euro\nPer informazioni: segreteria@ladante.lu
URL:https://passaparola.info/web/eventi/il-rinascimento-e-i-suoi-maestri/
ATTACH;FMTTYPE=image/png:https://passaparola.info/web/wp-content/uploads/2023/04/dante-alighieri-1.png
END:VEVENT
BEGIN:VEVENT
DTSTART;TZID=Europe/Rome:20230423T180000
DTEND;TZID=Europe/Rome:20230423T213000
DTSTAMP:20260420T034538
CREATED:20230417T215237Z
LAST-MODIFIED:20230419T110721Z
UID:22548-1682272800-1682285400@passaparola.info
SUMMARY:Festa della Liberazione
DESCRIPTION:
URL:https://passaparola.info/web/eventi/festa-della-liberazione/
CATEGORIES:Évènement PassaParola
ATTACH;FMTTYPE=image/jpeg:https://passaparola.info/web/wp-content/uploads/2023/04/1.jpg
END:VEVENT
BEGIN:VEVENT
DTSTART;TZID=Europe/Rome:20230423T180000
DTEND;TZID=Europe/Rome:20230423T193000
DTSTAMP:20260420T034538
CREATED:20230417T215808Z
LAST-MODIFIED:20230419T110749Z
UID:22552-1682272800-1682278200@passaparola.info
SUMMARY:Presentazione del libro : "Mussolini ha fatto anche cose buone?" di F. Filippi
DESCRIPTION:
URL:https://passaparola.info/web/eventi/presentazione-del-libro-mussolini-ha-fatto-anche-cose-buone-di-f-filippi/
ATTACH;FMTTYPE=image/jpeg:https://passaparola.info/web/wp-content/uploads/2023/04/FILIPPI-FRONTE.jpg
END:VEVENT
BEGIN:VEVENT
DTSTART;TZID=Europe/Rome:20230423T100000
DTEND;TZID=Europe/Rome:20230423T190000
DTSTAMP:20260420T034538
CREATED:20230422T082417Z
LAST-MODIFIED:20230422T083958Z
UID:22614-1682244000-1682276400@passaparola.info
SUMMARY:PassaParola partecipa a LiteraTour
DESCRIPTION:LiteraTour a Bettembourg \nDomenica 23 aprile (dalle 10 alle 18) : PassaParola vi aspetta con uno stand dedicato ai libri editi da PassaParola edition nel quadro di LiteraTour a Bettembourg\, presso lo Château de Bettembourg (13 rue du Château\, 3217 Bettembourg). \nAlle 17 lettura del libro “Donne libere dentro. Nuovi Racconti” di Maria Grazia Galati \nTutto il programma qui: De Programm 2023 – LiteraTour 2023
URL:https://passaparola.info/web/eventi/passaparola-partecipa-a-literatour/
END:VEVENT
BEGIN:VEVENT
DTSTART;TZID=Europe/Rome:20230422T143000
DTEND;TZID=Europe/Rome:20230422T163000
DTSTAMP:20260420T034538
CREATED:20230329T144521Z
LAST-MODIFIED:20230403T141915Z
UID:22288-1682173800-1682181000@passaparola.info
SUMMARY:La testa fra le stelle: incontro con Amalia Ercoli Finzi
DESCRIPTION:Sabato 22 aprile 2023 alle 14.30 presso l’Université du Luxemburg\, Campus Kirchberg–Salle Paul Feidert\, avremo come ospite la Professoressa Amalia Ercoli Finzi del Politecnico di Milano\, eccellenza italiana e personaggio di spicco a livello internazionale nel campo delle scienze e tecnologie aereospaziali.\nTrovate tutti i dettagli nella locandîna qui sotto. \nGradita conferma a arclux83@gmail.com \n 
URL:https://passaparola.info/web/eventi/la-testa-fra-le-stelle/
ATTACH;FMTTYPE=image/jpeg:https://passaparola.info/web/wp-content/uploads/2023/03/locandina2.jpg
END:VEVENT
BEGIN:VEVENT
DTSTART;TZID=Europe/Rome:20230420T190000
DTEND;TZID=Europe/Rome:20230420T190000
DTSTAMP:20260420T034538
CREATED:20230405T090339Z
LAST-MODIFIED:20230405T091102Z
UID:22375-1682017200-1682017200@passaparola.info
SUMMARY:LADJ a Esch/Alzette
DESCRIPTION:Proiezione del docu-film in collaborazione con OGBL di Esch/Alzette presso il Café STREIK \n62\, bd John F. Kennedy\, L-4170 Esch-sur-Alzette Esch-sur-Alzette \n  \nGratuito e aperto al pubblico
URL:https://passaparola.info/web/eventi/ladj-a-esch-alzette/
END:VEVENT
BEGIN:VEVENT
DTSTART;TZID=Europe/Rome:20230415T180000
DTEND;TZID=Europe/Rome:20230415T193000
DTSTAMP:20260420T034538
CREATED:20230405T090038Z
LAST-MODIFIED:20230405T090218Z
UID:22372-1681581600-1681587000@passaparola.info
SUMMARY:LADJ a Roma
DESCRIPTION:Evento organizzato dall’Ambasciata del Lussemburgo a Roma \n(evento su invito)
URL:https://passaparola.info/web/eventi/ladj-a-roma-2/
END:VEVENT
BEGIN:VEVENT
DTSTART;TZID=Europe/Rome:20230415T160000
DTEND;TZID=Europe/Rome:20230415T170000
DTSTAMP:20260420T034538
CREATED:20230404T141857Z
LAST-MODIFIED:20230404T142019Z
UID:22365-1681574400-1681578000@passaparola.info
SUMMARY:Incontro informativo JE PEUX VOTER
DESCRIPTION:L’ A.R.C. asbl – Associazione Regionale Campani organizza un incontro informativo sulle prossime elezioni comunali in Lussemburgo che avranno luogo l’11 giugno p.v. . \nAppuntamento il 15 aprile alle ore 16.00 presso la sede del CLAE  –  26\, rue de Gasperich – L-1617 Luxembourg. \nGradita conferma inviando una mail a : arcux83@gmail.com \nAl termine sarà offerto ai presenti un vin d’honneur. \nPresidente \nGianni Battista \nA.R.C. Asbl \nAssociazione Regionale Campani  \nin Lussemburgo
URL:https://passaparola.info/web/eventi/incontro-informativo-je-peux-voter/
ATTACH;FMTTYPE=image/png:https://passaparola.info/web/wp-content/uploads/2023/04/je-peux-voter.png
END:VEVENT
BEGIN:VEVENT
DTSTART;TZID=Europe/Rome:20230414T160000
DTEND;TZID=Europe/Rome:20230414T170000
DTSTAMP:20260420T034538
CREATED:20230405T085919Z
LAST-MODIFIED:20230405T090011Z
UID:22369-1681488000-1681491600@passaparola.info
SUMMARY:LADJ a Roma
DESCRIPTION:Presso la sala stampa della Camera dei Deputati\, su invito dell’on. Toni Ricciardi \n(riservato ai giornalisti)
URL:https://passaparola.info/web/eventi/ladj-a-roma/
END:VEVENT
BEGIN:VEVENT
DTSTART;TZID=Europe/Rome:20230409T200000
DTEND;TZID=Europe/Rome:20230409T213000
DTSTAMP:20260420T034538
CREATED:20230330T101242Z
LAST-MODIFIED:20230330T101334Z
UID:22313-1681070400-1681075800@passaparola.info
SUMMARY:La città delle donne Italie-France 1980 |  Federico Fellini
DESCRIPTION:La Cité des femmes\nLa città delle donne Italie-France 1980 |\nFederico Fellini | vostFR | 138’ | 35mm | Cast :\nMarcello Mastroianni\, Anna Prucnal\, Ettore\nMann
URL:https://passaparola.info/web/eventi/la-citta-delle-donne-italie-france-1980-federico-fellini/
LOCATION:Cinématèque de la VIlle de Luxembourg\, 17\, PL. du Théâtre\, LUXEMBOURG\, Lussemburgo
END:VEVENT
BEGIN:VEVENT
DTSTART;TZID=Europe/Rome:20230407T203000
DTEND;TZID=Europe/Rome:20230407T220000
DTSTAMP:20260420T034538
CREATED:20230330T100757Z
LAST-MODIFIED:20230330T100903Z
UID:22305-1680899400-1680904800@passaparola.info
SUMMARY:Ecologia del delitto Italie 1971 | Mario Bava
DESCRIPTION:A Bay of Blood\nEcologia del delitto Italie 1971 | Mario\nBava | vo anglaise stFR | 84’ | 35mm | Cast :\nClaudine Auger\, Luigi Pistilli\, Claudio Volonté
URL:https://passaparola.info/web/eventi/a-bay-of-blood-ecologia-del-delitto-italie-1971-m/
LOCATION:Cinématèque de la VIlle de Luxembourg\, 17\, PL. du Théâtre\, LUXEMBOURG\, Lussemburgo
END:VEVENT
BEGIN:VEVENT
DTSTART;TZID=Europe/Rome:20230401T180000
DTEND;TZID=Europe/Rome:20230401T193000
DTSTAMP:20260420T034538
CREATED:20230330T101121Z
LAST-MODIFIED:20230330T101159Z
UID:22311-1680372000-1680377400@passaparola.info
SUMMARY:La stanza del figlio Italie-France 2001 |  Nanni Moretti
DESCRIPTION:La Chambre du fils\nLa stanza del figlio Italie-France 2001 |\nNanni Moretti | vostFR | 99’ | 35mm | Cast :\nNanni Moretti\, Laura Morante\, Jasmine\nTrinca Palme d’or\, Cannes 2001
URL:https://passaparola.info/web/eventi/la-stanza-del-figlio-italie-france-2001-nanni-moretti/
LOCATION:Cinématèque de la VIlle de Luxembourg\, 17\, PL. du Théâtre\, LUXEMBOURG\, Lussemburgo
END:VEVENT
BEGIN:VEVENT
DTSTART;TZID=Europe/Rome:20230401T143000
DTEND;TZID=Europe/Rome:20230401T170000
DTSTAMP:20260420T034538
CREATED:20230319T160013Z
LAST-MODIFIED:20230319T155933Z
UID:22181-1680359400-1680368400@passaparola.info
SUMMARY:Café italien à Thionville
DESCRIPTION:Oreste Sacchelli: fascismo e cinema
URL:https://passaparola.info/web/eventi/cafe-italien-a-thionville-2/
LOCATION:1 Place Andre Malraux\, 57100 Thionville
END:VEVENT
BEGIN:VEVENT
DTSTART;TZID=Europe/Rome:20230331T183000
DTEND;TZID=Europe/Rome:20230331T203000
DTSTAMP:20260420T034538
CREATED:20230330T100302Z
LAST-MODIFIED:20230330T100926Z
UID:22302-1680287400-1680294600@passaparola.info
SUMMARY:Pane\, amore e fantasia Italie 1953 | Luigi Comencini
DESCRIPTION:From Slapstick to ScrewballIn memoriam Gina LollobrigidaPain\, amour et fantaisie Pane\, amore e fantasia Italie 1953 | vostf | 93’ | De : Luigi Comencini | Avec : Gina Lollobrigida\, Vittorio De Sica\, Roberto Risso
URL:https://passaparola.info/web/eventi/pain-amour-et-fantaisie-comedy-classics/
LOCATION:Cinématèque de la VIlle de Luxembourg\, 17\, PL. du Théâtre\, LUXEMBOURG\, Lussemburgo
END:VEVENT
BEGIN:VEVENT
DTSTART;TZID=Europe/Rome:20230331T170000
DTEND;TZID=Europe/Rome:20230331T210000
DTSTAMP:20260420T034538
CREATED:20230330T094253Z
LAST-MODIFIED:20230330T100140Z
UID:22295-1680282000-1680296400@passaparola.info
SUMMARY:Cuisinons Ensemble: cuisine italienne
DESCRIPTION:Le service Ensemble Quartiers Esch a Le plaisir de vous inviter à la prochaine édition du “Cuisinons Ensemble” sous Le thème de la cuisine italienne En date du vendredi Le 31/03/2023 à la Maison Porte Ouverte (17A\, rue de Belvaux L-4025 esch-sur-alzette). \nPrière de vous inscrire jusqu’au 29/03/2023 et pensez à apporter un récipient (Tupperware)\, afin d’éviter Le gaspillage. \nRappelons que Le projet “Cuisinons Ensemble” est un projet social\, dont tous les participants sont invités à préparer\, aider\, cuisiner\, faire la vaisselle … et surtout passer un bon moment Le tout Ensemble ! \nEn espérant de vous voir nombreux\, à bientôt ! \n\nLIEN SOURCE
URL:https://passaparola.info/web/eventi/evenements-ateliers-creatifs-photo-cuisinons-ensemble-cuisinons-ensemble/
LOCATION:Maison Porte Ouverte\, 17a Rue de Belvaux\, 4347 Esch-sur-Alzette\, Lussemburgo
ATTACH;FMTTYPE=image/jpeg:https://passaparola.info/web/wp-content/uploads/2023/03/cucina.jpg
END:VEVENT
BEGIN:VEVENT
DTSTART;TZID=Europe/Rome:20230328T183000
DTEND;TZID=Europe/Rome:20230328T203000
DTSTAMP:20260420T034538
CREATED:20230304T124606Z
LAST-MODIFIED:20230304T125319Z
UID:22051-1680028200-1680035400@passaparola.info
SUMMARY:EXIT – A JOURNEY OUT OF THE HEART OF HUMAN TRAFFICKING
DESCRIPTION:Première in Luxembourg\nIn the presence of the film director\nThe screening will be followed by a panel discussion.\n  \nEXIT is a searing\, award-winning documentary by independent film-maker Alison Jayne Wilson. Through a survivor’s lens it tells the story of three women who were looking for a way out of extreme poverty and found themselves at the heart of human trafficking networks. It is a story about what it means to be trafficked for sexual exploitation\, about the damage it causes and the extreme difficulties faced by those women who try to get out for good and regain their dignity. ​“Exit” is not a straight road and many don’t make it to the end. \n  \nTIME FOR EQUALITY\nTime For Equality is a not for profit association based in Luxembourg. They aim at contributing to a better and fairer society built on respect for human rights and fundamental freedoms\, equity and social justice. Their objective is to make a difference through advocacy and awareness raising\, sharing knowledge and experiences\, solidarity. They believe in the power of the arts and human stories to reach individuals and influence social change. Their motto: Learn\, Share\, Take Action!
URL:https://passaparola.info/web/eventi/22051/
END:VEVENT
END:VCALENDAR