BEGIN:VCALENDAR
VERSION:2.0
PRODID:-//PassaParola Magazine - ECPv5.7.0//NONSGML v1.0//EN
CALSCALE:GREGORIAN
METHOD:PUBLISH
X-WR-CALNAME:PassaParola Magazine
X-ORIGINAL-URL:https://passaparola.info/web
X-WR-CALDESC:Eventi per PassaParola Magazine
BEGIN:VTIMEZONE
TZID:Europe/Rome
BEGIN:DAYLIGHT
TZOFFSETFROM:+0100
TZOFFSETTO:+0200
TZNAME:CEST
DTSTART:20230326T010000
END:DAYLIGHT
BEGIN:STANDARD
TZOFFSETFROM:+0200
TZOFFSETTO:+0100
TZNAME:CET
DTSTART:20231029T010000
END:STANDARD
END:VTIMEZONE
BEGIN:VEVENT
DTSTART;TZID=Europe/Rome:20230702T100000
DTEND;TZID=Europe/Rome:20230702T183000
DTSTAMP:20260420T004857
CREATED:20230702T071126Z
LAST-MODIFIED:20230702T071145Z
UID:23603-1688292000-1688322600@passaparola.info
SUMMARY:S.S. Messe domenicali
DESCRIPTION:DOMENICA 2 Luglio \nSaint-Michel 10h00\nSanta Messa \nSaint-Michel 11h00\nSanta Messa \nSaint-Michel 12h00\nBattesimo \nBonnevoie 17h00\nSanta Messa
URL:https://passaparola.info/web/eventi/s-s-messe-domenicali/
END:VEVENT
BEGIN:VEVENT
DTSTART;TZID=Europe/Rome:20230702T085000
DTEND;TZID=Europe/Rome:20230702T191500
DTSTAMP:20260420T004857
CREATED:20230530T202808Z
LAST-MODIFIED:20230530T203119Z
UID:23207-1688287800-1688325300@passaparola.info
SUMMARY:Tournée- tournage
DESCRIPTION:
URL:https://passaparola.info/web/eventi/tournee-tournage/
CATEGORIES:Évènement PassaParola
ATTACH;FMTTYPE=image/jpeg:https://passaparola.info/web/wp-content/uploads/2023/05/passaparola.info-tour-film-02072023-1_page-0001.jpg
END:VEVENT
BEGIN:VEVENT
DTSTART;TZID=Europe/Rome:20230629T190000
DTEND;TZID=Europe/Rome:20230629T203000
DTSTAMP:20260420T004857
CREATED:20230626T133723Z
LAST-MODIFIED:20230626T133802Z
UID:23543-1688065200-1688070600@passaparola.info
SUMMARY:Table Ronde: Comment intégrer les non-luxembourgeois dans la politique ?
DESCRIPTION:Comment intégrer les non-luxembourgeois  \ndans la politique ? \nLes sections internationales et les groupes internationaux des partis politiques luxembourgeois nous répondent \n  \n Organisée par la Plateforme Immigration et Intégration Luxembourg \nen partenariat avec la Ville de Luxembourg \nqui aura lieu le \nJeudi 29 juin 2023 à 19.00 \nCentre Culturel Altrimenti \nSalle Rheinsheim \n(5\, avenue Marie-Thérèse\, Luxembourg Ville) \nPlateforme Immigration et Intégration Luxembourg (PIILUX asbl) \nMail : piiluxembourg@gmail.com \nFacebook : https://www.facebook.com/piiluxembourg \nTwitter: @EtPlateforme \n  \nLa conférence sera en langue française. Une traduction en anglais peut être demandée à  piiluxembourg@gmail.com\,  jusqu’au 27 juin 2023. \nSi vous souhaitez ne plus recevoir nos courriers veuillez nous en informer sur notre adresse mail  piiluxembourg@gmail.com
URL:https://passaparola.info/web/eventi/table-ronde-comment-integrer-les-non-luxembourgeois-dans-la-politique/
END:VEVENT
BEGIN:VEVENT
DTSTART;TZID=Europe/Rome:20230625T100000
DTEND;TZID=Europe/Rome:20230625T180000
DTSTAMP:20260420T004857
CREATED:20230624T070340Z
LAST-MODIFIED:20230624T070355Z
UID:23479-1687687200-1687716000@passaparola.info
SUMMARY:S.S. Messe
DESCRIPTION:DOMENICA 25 GIUGNO \nSaint-Michel 10h00\nSanta Messa \nSaint-Michel 11h00\nSanta Messa \nBonnevoie 17h00\nSanta Messa
URL:https://passaparola.info/web/eventi/s-s-messe-2/
END:VEVENT
BEGIN:VEVENT
DTSTART;TZID=Europe/Rome:20230624T170000
DTEND;TZID=Europe/Rome:20230624T180000
DTSTAMP:20260420T004857
CREATED:20230624T070244Z
LAST-MODIFIED:20230624T070258Z
UID:23477-1687626000-1687629600@passaparola.info
SUMMARY:S.S. Messe
DESCRIPTION:SABATO 24 giugno \nBonnevoie 17h00\nSanta Messa
URL:https://passaparola.info/web/eventi/s-s-messe/
END:VEVENT
BEGIN:VEVENT
DTSTART;TZID=Europe/Rome:20230618T100000
DTEND;TZID=Europe/Rome:20230618T170000
DTSTAMP:20260420T004857
CREATED:20230602T120632Z
LAST-MODIFIED:20230602T120730Z
UID:23227-1687082400-1687107600@passaparola.info
SUMMARY:Une compétition de Karting et déjeuner
DESCRIPTION:L’A.R.C. Asbl \nAssociazione Regionale Campani \n in Lussemburgo \n  \nOrganise: \nUne compétition de Karting et à suivre restaurant « LA MIA TERRA » \nKARTING MONDERCANGE \nrue de Limpach – BP 56 | L- 3901 Mondercange \nDIMANCHE 18 Juin 2023 –  10h.00 \nPRIX \nKarting adultes : 39 € – 20 minutes \nKarting enfants (8-14 ans) : 32 € – 20 minutes \nTenue obligatoire : pantalon long\, manches longues et chaussures plates et fermée \n  \nPour raison d’organisation nous vous demandons de confirmer votre participation avant le : \n10 Juin 2023 à : arclux83@gmail.com et effectuer le virement de participation sur c/c: \n LU 04 0019 1400 6666 1000\, Code Bic BCEELULL\, \nBénéficiaire : Associazione Campani A.R.C. Luxbg.  – causal Karting 2023. \n  \n\nPossibilité de participer uniquement au karting\, au restaurant ou aux deux\n\nPresidente \nGianni Battista \nA.R.C. Asbl \nAssociazione Regionale Campani  \nin Lussemburgo
URL:https://passaparola.info/web/eventi/une-competition-de-karting-et-a-suivre-restaurant-la-mia-terra/
END:VEVENT
BEGIN:VEVENT
DTSTART;TZID=Europe/Rome:20230618T090000
DTEND;TZID=Europe/Rome:20230618T170000
DTSTAMP:20260420T004857
CREATED:20230616T172141Z
LAST-MODIFIED:20230616T172141Z
UID:23361-1687078800-1687107600@passaparola.info
SUMMARY:Messe della domenica
DESCRIPTION:DOMENICA 18 GIUGNO \nSaint-Michel 9h00\nSanta Messa \nSaint-Michel 10h30\nSanta Messa – PRIME COMUNIONI \nBonnevoie 17h00\nSanta Messa
URL:https://passaparola.info/web/eventi/messe-della-domenica/
END:VEVENT
BEGIN:VEVENT
DTSTART;TZID=Europe/Rome:20230618T080000
DTEND;TZID=Europe/Rome:20230618T170000
DTSTAMP:20260420T004857
CREATED:20230426T155825Z
LAST-MODIFIED:20230426T160049Z
UID:22659-1687075200-1687107600@passaparola.info
SUMMARY:K-RUN/CNS
DESCRIPTION:K-Run | Luxembourg
URL:https://passaparola.info/web/eventi/k-run/
END:VEVENT
BEGIN:VEVENT
DTSTART;TZID=Europe/Rome:20230617T170000
DTEND;TZID=Europe/Rome:20230617T180000
DTSTAMP:20260420T004857
CREATED:20230616T172027Z
LAST-MODIFIED:20230616T172048Z
UID:23358-1687021200-1687024800@passaparola.info
SUMMARY:Santa Messa in onore di San Pio
DESCRIPTION:SABATO 17 giugno \nBonnevoie 17h00\nSanta Messa in onore di San Pio \n 
URL:https://passaparola.info/web/eventi/santa-messa-in-onore-di-san-pio/
END:VEVENT
BEGIN:VEVENT
DTSTART;TZID=Europe/Rome:20230616T173000
DTEND;TZID=Europe/Rome:20230616T193000
DTSTAMP:20260420T004857
CREATED:20230611T075700Z
LAST-MODIFIED:20230611T075750Z
UID:23303-1686936600-1686943800@passaparola.info
SUMMARY:GRANDE GIOCO DELL’ OCA DANTESCO
DESCRIPTION:Vieni anche tu a giocare con noi al GRANDE GIOCO DELL’ OCA DANTESCO \n16 giugno 2023\ndalle 17.30 alle 19.30\npresso la sede Dante Lussemburgo- \nrue St. Ulric 25\nPasseremo insieme un pomeriggio divertente in cui ti muoverai da “pedina” in un grande cartellone attraverso le varie tappe del viaggio di Dante nella Divina Commedia\, dall’ INFERNO\, al PURGATORIO\, fino al PARADISO.\nAnimati dalla maestra Alba Sala\, insegnante e autrice di libri per bambini. \nPer ragazzi e ragazze dai 6 ai 12 anni – Ingresso10 € (inclusa la merenda )
URL:https://passaparola.info/web/eventi/grande-gioco-dell-oca-dantesco/
END:VEVENT
BEGIN:VEVENT
DTSTART;TZID=Europe/Rome:20230615T200000
DTEND;TZID=Europe/Rome:20230615T213000
DTSTAMP:20260420T004857
CREATED:20230611T075519Z
LAST-MODIFIED:20230611T075621Z
UID:23299-1686859200-1686864600@passaparola.info
SUMMARY:Recital di piano
DESCRIPTION:“Dall’icasticità beethoveniana alla tragicità chopiniana”\nPianista : Antonio Guiseppe Nucera\nGiovedì 15 giugno ore 20:00\npresso Piano Kelly\n17 Rue de Munsbach\, Niederanven\n  \nPROGRAMMA:\nLudwig van Beethoven\, 1770-1827\n\n\nSonate en ré mineur Op. 31 n° 2 “La Tempête\n\n\nFrédéric Chopin\, 1810-1849\n\n\nNocturne en do mineur Op. 48 no. 1\n\n\nPolonaise en la majeur Op. 40 n° 1 “Militaire”\n\n\nPolonaise en ut mineur Op. 40 n° 2 Polonaise en fa dièse mineur Op. 44\n\n\nAntonio Giuseppe Nucera\, pianista\, inizia lo studio del pianoforte con la madre.\nHa conseguito ll diploma di pianoforte con la nota 110 e lode sotto la guida della professoressa Rosa Inarta presso il conservatorio di musica “Francesco Cilea” di Reggio Calabria.\nDopo aver conseguito il diploma di secondo livello in pianoforte\, è stato allievo del M° Piotr Paleczny e ha seguito un masterclass di pianoforte presso l’università musicale “Talent Music Master Courses” di Brescia.\nHa partecipato a diverse masterclass e lezioni avanzate di pianoforte con pianisti di fama internazionale\, tra cui: Alexander Hintchev\, Michele Campanella\, Roberto Cappello\, Sviese Cepliauskaite\, Dainius Kepezinskas\, Andrzej Jasinski\, Vitaly Samoshko\, Alberto Nosè\, Piotr Paleczny. Ha partecipato a diverse masterclass\, seminari e progetti con maestri di fama internazionale\, tra cui: Giovanni Sollima\, Basilio Timpanaro\, Alessandro Quasimodo\, Marco Franceschelli\, Rosa Inarta.\nÈ stato premiato in numerosi concorsi nazionali ed internazionali in Italia e all’estero: Primo Premio Assoluto al Concorso Nazionale Musicale Saverio Mercadante di Napoli\, Primo Premio al Concorso Internazionale “Harmonika”\, Secondo Premio al Concorso Musicale Internazionale King’s Peak a Kings Peak (Stati Uniti d’America)\, secondo premio al Concorso Pianistico Internazionale Mozart\, ecc.\nSi esibisce come solista in prestigiose sale da concerto. \nIngresso:\nSoci Dante e bambini sotto i 12 anni 10 €\nNon soci 15 € \nVi informiamo che non spediamo biglietti. A seguito del vostro acquisto il vostro nominativo sarà inserito nella lista di presenze e potrete registrarvi la sera dello spettacolo alla cassa serale.
URL:https://passaparola.info/web/eventi/recital-di-piano/
END:VEVENT
BEGIN:VEVENT
DTSTART;TZID=Europe/Rome:20230614T213000
DTEND;TZID=Europe/Rome:20230614T230000
DTSTAMP:20260420T004857
CREATED:20230530T201826Z
LAST-MODIFIED:20230530T202001Z
UID:23200-1686778200-1686783600@passaparola.info
SUMMARY:LADJ a Milano
DESCRIPTION:Cinema Anteo\, Milano \nAnteo Milano Spazio Cinema | Scopri i Prossimi Appuntamenti
URL:https://passaparola.info/web/eventi/ladj-a-milano-2/
END:VEVENT
BEGIN:VEVENT
DTSTART;TZID=Europe/Rome:20230610T153000
DTEND;TZID=Europe/Rome:20230610T170000
DTSTAMP:20260420T004857
CREATED:20230522T205527Z
LAST-MODIFIED:20230522T215728Z
UID:23106-1686411000-1686416400@passaparola.info
SUMMARY:CONFÉRENCE: DES AILES ET DU CŒUR
DESCRIPTION:DES AILES ET DU CŒUR\n(Histoire de la vieille chenille et du papillon blanc)\nCONFÉRENCE de Andrea Scagnetti \n \nLe samedi 10 juin 2023 à 15h30\nEcole d’Art Contemporain\n117\, rue d’Hollerich (Cour intérieure)\nL-1741 LUXEMBOURG\nLignes bus : 4\, 10\, 14\, 20\, 27 (arrêt « Jean-Baptiste Merkels»)\nParking externe Eglise\nRéservations sur rdv : www.ecoledartcontemporain.lu\nTél. : 49 46 16\nAnimée par Maria Grazia Galati \n  \n  \n  \n 
URL:https://passaparola.info/web/eventi/23106/
CATEGORIES:Évènement PassaParola
ATTACH;FMTTYPE=image/jpeg:https://passaparola.info/web/wp-content/uploads/2023/05/scagnetti-ffiche_Des-ailes-et-du-coeur_EAC_2023_Def.jpg
END:VEVENT
BEGIN:VEVENT
DTSTART;TZID=Europe/Rome:20230609T200000
DTEND;TZID=Europe/Rome:20230609T213000
DTSTAMP:20260420T004857
CREATED:20230530T195500Z
LAST-MODIFIED:20230531T200653Z
UID:23186-1686340800-1686346200@passaparola.info
SUMMARY:Concerto di launeddas di Luigi Lai e Fabio Vargiolo
DESCRIPTION:
URL:https://passaparola.info/web/eventi/concerto-di-launeddas-di-luigi-lai-e-fabio-vargiolo/
ATTACH;FMTTYPE=image/jpeg:https://passaparola.info/web/wp-content/uploads/2023/05/luigilai.jpg
END:VEVENT
BEGIN:VEVENT
DTSTART;TZID=Europe/Rome:20230609T190000
DTEND;TZID=Europe/Rome:20230609T203000
DTSTAMP:20260420T004857
CREATED:20230530T202139Z
LAST-MODIFIED:20230530T202317Z
UID:23203-1686337200-1686342600@passaparola.info
SUMMARY:Capire la mafia
DESCRIPTION:Il Comitato di Lussemburgo della Dante Alighieri e Concierge Taylor made vi invitano a partecipare all’evento\nCapire la mafia\nVenerdì 9 giugno ore 19:00\npresso la sede della Dante. rue St. Ulrich 25 Luxemborg Grund\n\nCi collegheremo in streaming ed intervisteremo Sergio Nazzaro\, autore del libro “FORT ALAMO\, La criminalità nigeriana e la tratta degli esseri umani”.\nNel suo reportage Nazzaro ricostruisce tutte le tappe di Restore Freedom\, la prima indagine per mafia della criminalità nigeriana\, un’operazione congiunta delle forze dell’ordine (polizia\, magistratura fino al coinvolgimento dei Servizi Segreti) che ha svelato il potere\, la brutalità e le ramificazioni della mafia nigeriana in Italia e in Europa.\nSergio Nazzaro\, giornalista e scrittore\, ha approfondito i temi delle criminalità organizzate nazionali e internazionali\, con particolare riferimento alle mafie di origine africana. Ha collaborato con diverse testate tra cui «Fanpage.it»\, «Repubblica»\, «Sole 24 Ore» e realizzato documentari per Current TV\, Rai 2\, Rai 3. È autore di diverse pubblicazioni tra cui Castel Volturno\, Reportage sulla mafia africana (Einaudi 2013)\, Mediterraneo (Round Robin 2018) e\, per Città Nuova\, Palma di Dio\, L’insoluto (con Pietrangelo Buttafuoco) e Mafia nigeriana.\n\nSeguirà una degustazione di alcuni prodotti della Cooperativa Soc. “Al di la’ dei sogni” i cui territori sono stati confiscati alla mafia.\nIngresso 20 euro – I proventi verrano devoluti a favore della Cooperativa.\n\nAcquisto biglietti sul sito della Dante.\n\nSarà possibile acquistare il libro di Sergio Nazzaro ed alcuni prodotti della Cooperativa durante l’evento o successivamente tramite prenotazione.\n\nLeggi anche Incontrarsi “per scuotere le coscienze” – PassaParola Magazine
URL:https://passaparola.info/web/eventi/capire-la-mafia-2/
END:VEVENT
BEGIN:VEVENT
DTSTART;TZID=Europe/Rome:20230607T100000
DTEND;TZID=Europe/Rome:20230611T170000
DTSTAMP:20260420T004857
CREATED:20230530T195301Z
LAST-MODIFIED:20230530T195400Z
UID:23183-1686132000-1686502800@passaparola.info
SUMMARY:BellissiMetz: la Sardegna all’onore
DESCRIPTION:Villaggio italiano “BellissiMetz” (Metz\, 7-11 giugno 2023)\nDal 7 all’11 giugno\, in place de la République a Metz\, si svolgerà la seconda edizione del villaggio italiano “BellissiMetz”\, che quest’anno vedrà la Sardegna messa all’onore. Artigiani ed enogastronomi dell’isola e del resto d’Italia verranno a proporre al grande pubblico le loro meravigliose e gustosissime produzioni\, accompagnati da un ricco programma di eventi per tutti i gusti: spettacoli di sbandieratori\, concerto di launeddas\, animazioni musicali\, atelier per bambini\, visite guidate alla scoperta di Metz\, cinema\, informazioni sulla lingua e cultura italiana in Lorena. \nPer saperne di più\, cliccate sul Programma e… BENVENUTI A “BELLISSIMETZ”!
URL:https://passaparola.info/web/eventi/bellissimetz/
END:VEVENT
BEGIN:VEVENT
DTSTART;TZID=Europe/Rome:20230606T203000
DTEND;TZID=Europe/Rome:20230606T220000
DTSTAMP:20260420T004857
CREATED:20230602T115125Z
LAST-MODIFIED:20230602T120436Z
UID:23216-1686083400-1686088800@passaparola.info
SUMMARY:L'immensità di Emanuele Crialese: film e discussione
DESCRIPTION:Ma 6.6. 20h30 Film et discussion \nL’Immensità\n (it\, ss-titrage fr)\nFilm d’Emanuele Crialese avec Penélope Cruz qui raconte la vie d’une famille en crise à Rome dans les années 1970 de la perspective d’un garçon trans.« Un film d’une grande sensibilité qui décortique la toxicité de la famille italienne traditionnelle\, autant critique vis à vis du père\, qu’ouvert sur la découverte de soi en ce qui concerne le jeune Andrea. Au centre\, on retrouve une des plus grandes actrices inter-nationales\, capable de rayonner aussi bien en italien qu’en espagnol.L’immense du titre\, c’est peut-être aussi elle\, Penelope Cruz. » (Le Bleu du miroir)Modération et discussion: Jo Hurt itgl asbl\, éducatrice et formatrice et Kathrin Eckhart\, CID \nQuand?: Mardi 6 juin à 20h30\nOù ?: Cinémathèque de la Ville de Luxembourg\nOrg. : Ville de Luxembourg\, CID\, Intersex & Transgender Luxembourg a.s.b.l \n\n\n\n\n\n\n\n\n\n 
URL:https://passaparola.info/web/eventi/limmensita-di-emanuele-crialese-film-e-discussione/
LOCATION:Cinémathèque de la Ville de Luxembourg\, Lussemburgo
END:VEVENT
BEGIN:VEVENT
DTSTART;TZID=Europe/Rome:20230606T183000
DTEND;TZID=Europe/Rome:20230606T200000
DTSTAMP:20260420T004857
CREATED:20230602T120121Z
LAST-MODIFIED:20230602T120258Z
UID:23223-1686076200-1686081600@passaparola.info
SUMMARY:Ceux qui restent
DESCRIPTION:Organisé par Time For Equality\nEn collaboration avec Rotondes \nSelezionato dal Festival: ASTRA FILM FESTIVAL 2019\, Sibiu\, Romania \nVincitore del premio: Primo premio per la regia nella competizione rumena \nAnno di produzione: 2019 \nPaese di produzione: Belgio \nProduzione: Eklektik Productions \nPaese oggetto del documentario: Romania \nDurata: 93′ \nPellicola: Colore \n\n\nDiretto da: Charlotte Grégoire\, Anne Schiltz \nMâlăncrav\, un piccolo villaggio in Romania. C’è sempre qualcuno in partenza per l’Europa occidentale\, dove lo aspettano lavori precari e stagionali\, per aiutare chi rimane ad avere una vita più agiata. Il ritmo delle partenze e dei ritorni ha un effetto su ogni famiglia. Pastures New ci porta nel cuore della comunità di Mâlăncrav e racconta di donne forti e determinate; di ragazzi ancora spensierati; e degli ultimi pastori che lottano per co \n\ndizione Eurorama: 2020 \nSelezionato dal Festival: ASTRA FILM FESTIVAL 2019\, Sibiu\, Romania \nVincitore del premio: Primo premio per la regia nella competizione rumena \nAnno di produzione: 2019 \nPaese di produzione: Belgio \nProduzione: Eklektik Productions \nPaese oggetto del documentario: Romania \nDurata: 93′ \nPellicola: Colore \n\n\nDiretto da: Charlotte Grégoire\, Anne Schiltz \nMâlăncrav\, un piccolo villaggio in Romania. C’è sempre qualcuno in partenza per l’Europa occidentale\, dove lo aspettano lavori precari e stagionali\, per aiutare chi rimane ad avere una vita più agiata. Il ritmo delle partenze e dei ritorni ha un effetto su ogni famiglia. Pastures New ci porta nel cuore della comunità di Mâlăncrav e racconta di donne forti e determinate; di ragazzi ancora spensierati; e degli ultimi pastori che lottano per coontinuare a prendersi cura dei propri greggi.
URL:https://passaparola.info/web/eventi/23223/
END:VEVENT
BEGIN:VEVENT
DTSTART;TZID=Europe/Rome:20230602T200000
DTEND;TZID=Europe/Rome:20230602T220000
DTSTAMP:20260420T004857
CREATED:20230530T194258Z
LAST-MODIFIED:20230530T201501Z
UID:23175-1685736000-1685743200@passaparola.info
SUMMARY:Musita: Italia indie rock festival
DESCRIPTION:(7) MUSITA [italian indie rock festival] • L’Entrepôt\, Arlon | Facebook \n  \nMUSITA\nitalian indie rock festival avec Julie’s Haircut\, Motueka & Merçe\nPrix: préventes 12€ / sur place 14€\n Billetterie : https://bit.ly/41Qw90q\nApéro italien prévu dès 20h avec DJ Moostash\n\n▬▬▬ LINE UP ▬▬▬▬▬▬▬▬▬▬▬\n► Julie’s Haircut\nActif depuis la fin des années 90\, les italiens de Julie’s Haircut dévoilent une musique imprégnée de sons spatiaux et hypnotiques. Au travers d’une série d’albums allant de l’énergie Soul/Garage de leurs débuts à des terrains plus expérimentaux\, axés sur l’improvisation et la recherche sonore\, le groupe n’a jamais perdu contact avec le groove et la mélodie qui caractérisent encore et toujours leur musique.\nAu fil des années\, ils ont partagé les scènes de Damo Suzuki\, Sonic Boom\, Philip Corner ou encore Valerio Cosi.\n\n► Motueka\nMotueka est un projet Post Rock Noise originaire d’Arlon influencé par le meilleur de la scène 90’s à l’image de Sonic Youth\, Deftones\, Mogwai ou encore de la scène Noise Italienne.\n\n► Merçe\nMERÇE consolide la collaboration de dix ans entre Łukasz Mrozinski\, un artiste italo-polonais décrit comme un “poète postfolk dans l’âme la plus sombre” (Rumore) et nUDD (alias di Eros Giuggia). Le duo coagule des expérimentations bruyantes et avant-gardistes avec l’auteur-compositeur italien. Des éléments qui\, entre leurs mains\, mêlent poésie visionnaire aux récits énigmatiques transpercés par les prouesses du vent et les bourdonnements de cordes réverbérées.\n\n▬▬▬ INFOS ▬▬▬▬▬▬▬▬▬▬▬\nOuverture des Portes: 20h\nL’Entrepôt est un espace ouvert à tou·tes où chacun·e est libre de festoyer dans le respect\, la bienveillance et la sécurité. Nous ne tolèrerons aucune forme de violence\, racisme\, sexisme\, homophobie ou toute autre forme de discrimination dans notre salle. N’hésitez pas à nous contacter au moindre problème.
URL:https://passaparola.info/web/eventi/23175/
ATTACH;FMTTYPE=image/jpeg:https://passaparola.info/web/wp-content/uploads/2023/05/entrepot.jpg
END:VEVENT
BEGIN:VEVENT
DTSTART;TZID=Europe/Rome:20230601T173000
DTEND;TZID=Europe/Rome:20230601T190000
DTSTAMP:20260420T004857
CREATED:20230519T091810Z
LAST-MODIFIED:20230519T092118Z
UID:23053-1685640600-1685646000@passaparola.info
SUMMARY:Canzoniere Grecanico Salentino in concerto
DESCRIPTION:In occasione della Festa della Repubblica Italiana 2023 L’Ambasciatore d’Italia Diego Brasioli \ne il Presidente della Fondation Cavour Dott. Bruno Agostini\nsono lieti di invitare la S. V. \n  \nallo spettacolo di musica e danza “Meridiana” del Canzoniere Grecanico Salentino \ngiovedì 1° giugno 2023 alle ore 17:30
URL:https://passaparola.info/web/eventi/canzoniere-grecanico-salentino-in-concerto/
ATTACH;FMTTYPE=image/jpeg:https://passaparola.info/web/wp-content/uploads/2023/05/canzoniere.jpg
END:VEVENT
BEGIN:VEVENT
DTSTART;TZID=Europe/Rome:20230525T183000
DTEND;TZID=Europe/Rome:20230525T213000
DTSTAMP:20260420T004857
CREATED:20230512T090612Z
LAST-MODIFIED:20230512T090612Z
UID:22937-1685039400-1685050200@passaparola.info
SUMMARY:La Toscane secrete
DESCRIPTION:Ornella Piccirillo ci presenta i luoghi meno conosciuti della splendida regione italiana\, la Toscana.
URL:https://passaparola.info/web/eventi/la-toscane-secrete/
LOCATION:pp france italie\, 6\, Grand Rue\, Sainte Ruffine\, Francia
ATTACH;FMTTYPE=image/jpeg:https://passaparola.info/web/wp-content/uploads/2023/05/WhatsApp-Image-2023-05-11-at-17.53.47.jpeg
END:VEVENT
BEGIN:VEVENT
DTSTART;TZID=Europe/Rome:20230525T180000
DTEND;TZID=Europe/Rome:20230525T193000
DTSTAMP:20260420T004857
CREATED:20230515T172732Z
LAST-MODIFIED:20230515T173033Z
UID:23013-1685037600-1685043000@passaparola.info
SUMMARY:« Aux origines du mouvement associatif italien au Luxembourg »
DESCRIPTION:Le collège des Bourgmestre et Échevins de la Ville de Luxembourg\, en collaboration avec la Fondation Cavour et sous le patronage de l’Ambassade d’Italie\, ont le plaisir de vous inviter au vernissage de l’exposition: \n  \n« Aux origines du mouvement associatif italien au Luxembourg » \nLe jeudi 25 mai à 18h00 \nOuverture du 25 mai 2023 au 9 juillet 2023. \n \nau Lëtzebuerg City Museum \n14 rue du Saint-Esprit \n2090 Luxembourg \nElle fait partie de la plus générale exposition sur les associations à Luxembourg: \nKomm\, mir grënnen e Veräin! – La vie associative dans la ville de Luxembourg depuis le 19e siècle \n  \nLe vernissage sera suivi d’un vin d’honneur. \n  \nPour de plus amples informations\, veuillez consulter l’invitation en pièce jointe. \nEntrée gratuite dans la limite des places disponibles et aucune réservation n’est requise. \n  \nMeilleures salutations\,\nBruno Agostini \nFondation Cavour
URL:https://passaparola.info/web/eventi/aux-origines-du-mouvement-associatif-italien-au-luxembourg/
ATTACH;FMTTYPE=image/jpeg:https://passaparola.info/web/wp-content/uploads/2023/05/cavour.jpg
END:VEVENT
BEGIN:VEVENT
DTSTART;TZID=Europe/Rome:20230524T190000
DTEND;TZID=Europe/Rome:20230524T203000
DTSTAMP:20260420T004857
CREATED:20230502T094031Z
LAST-MODIFIED:20230513T093555Z
UID:22742-1684954800-1684960200@passaparola.info
SUMMARY:Anpi presenta "L'anima nera d'Europa" in presenza dell'autore
DESCRIPTION:Anpi Lussemburgo\, Anpi sezioni europee in collaborazione con PassaParola\, Dante Alighieri\, presenta \nL’anima nera d’Europa di \n\ndi Davide Conti (Autore)\n\n\n24 maggio ore 19\, presso Centre culture Altrimenti (salle BELAIR ). Lo storico Davide Conti sarà presente. \n  \n 
URL:https://passaparola.info/web/eventi/22742/
ATTACH;FMTTYPE=image/png:https://passaparola.info/web/wp-content/uploads/2023/05/CONTI-2.png
END:VEVENT
BEGIN:VEVENT
DTSTART;TZID=Europe/Rome:20230523T190000
DTEND;TZID=Europe/Rome:20230523T203000
DTSTAMP:20260420T004857
CREATED:20230405T091128Z
LAST-MODIFIED:20230405T091240Z
UID:22389-1684868400-1684873800@passaparola.info
SUMMARY:LADJ a Hesperange
DESCRIPTION:Proiezione del docu-film in collaborazione con la Commission Communale Consultative d’Intégration Hesper\, Hesperingen\, Luxemburg
URL:https://passaparola.info/web/eventi/ladj-a-hesperange/
END:VEVENT
BEGIN:VEVENT
DTSTART;TZID=Europe/Rome:20230521T153000
DTEND;TZID=Europe/Rome:20230521T170000
DTSTAMP:20260420T004857
CREATED:20230503T191811Z
LAST-MODIFIED:20230503T191917Z
UID:22759-1684683000-1684688400@passaparola.info
SUMMARY:Letture in libreria con Trotty (2-7 anni)
DESCRIPTION:Potete confermare la vostra partecipazione inviando un’e-mail a: libreriaitaliana.lu@gmail.com
URL:https://passaparola.info/web/eventi/letture-in-libreria-con-trotty/
END:VEVENT
BEGIN:VEVENT
DTSTART;TZID=Europe/Rome:20230521T130000
DTEND;TZID=Europe/Rome:20230521T143000
DTSTAMP:20260420T004857
CREATED:20230501T201342Z
LAST-MODIFIED:20230501T201619Z
UID:22730-1684674000-1684679400@passaparola.info
SUMMARY:TANTE VOCI al "Passages Transfestival Transitalia" di Metz
DESCRIPTION:TANTE VOCI et Transfestival PASSAGES “Transitalia” \n  \nL’atelier vocal « Tante Voci » s’est constitué en 2009 pour faire vivre le magnifique répertoire des chants populaires italiens issus de la tradition orale\, dans la région Lorraine\, aux frontières chahutées par l’Histoire\, mais aussi  au – delà… \n« Tante Voci » participera au prochain évènement de Passages Transfestival à Metz – Edition Transitalia 2023\nle 21 mai à 13 h00 – Tipi  \nSous la houlette de Tania Pividori\, le chœur animera les festivités de clôture\, le dimanche 21 Mai à 13 H00 au cours d’un antipasto brunch festif dans le TIPI \nIl vous proposera un voyage parcourant la péninsule italienne du Nord au Sud\, au fil de chants\, célébrant le cycle de la vie\, la poésie\, le plaisir de chanter. \nLes polyphonies sont toutes liées à une fonction ou à un rituel. Ces chants sont des histoires qui nous parlent des joies et des peines\,\ndu travail\, des mouvements sociaux ou révolutionnaires\, des miracles\, et bien sûr de l’amour…. \nEn 2022\, en collaboration avec trois artistes professionnels\, l’association a créé un spectacle original « Frontière(s) »  Explorations vocales\, théâtrales\, poétiques et visuelles :\nune odyssée illustrée par des textes et chants de migration\, d’amour\,  mémoires universelles des traversées de frontières visibles ou invisibles… \nTania PIVIDORI est chanteuse\, auteure\, compositrice\, membre du quatuor « SANACORE ». \nVenez redécouvrir ce joyau musical qu’est l’Italie !
URL:https://passaparola.info/web/eventi/tante-voci-et-transfestival-passages-transitalia/
END:VEVENT
BEGIN:VEVENT
DTSTART;TZID=Europe/Rome:20230521T103000
DTEND;TZID=Europe/Rome:20230521T113000
DTSTAMP:20260420T004857
CREATED:20230405T090925Z
LAST-MODIFIED:20230501T202147Z
UID:22384-1684665000-1684668600@passaparola.info
SUMMARY:LADJ a Milano
DESCRIPTION:Proiezione del docu-film presso il cinema ANTEO (Piazza 25 aprile)\, ore 10\,30 \n  \n  \n 
URL:https://passaparola.info/web/eventi/ladj-a-milano/
END:VEVENT
BEGIN:VEVENT
DTSTART;TZID=Europe/Rome:20230521T100000
DTEND;TZID=Europe/Rome:20230521T170000
DTSTAMP:20260420T004857
CREATED:20230519T160230Z
LAST-MODIFIED:20230519T160319Z
UID:23079-1684663200-1684688400@passaparola.info
SUMMARY:Messe in italiano
DESCRIPTION:DOMENICA 21 MAGGIO \nSaint-Michel 10h00 Santa Messa (consegna Tau e pergamena a quanti hanno fatto la prima confessione) \nSaint-Michel 11h00 Santa Messa (fidanzati in preparazione al matrimonio) \nBonnevoie 17h00 Luturgia della Parola
URL:https://passaparola.info/web/eventi/23079/
END:VEVENT
BEGIN:VEVENT
DTSTART;TZID=Europe/Rome:20230520T170000
DTEND;TZID=Europe/Rome:20230520T180000
DTSTAMP:20260420T004857
CREATED:20230519T160405Z
LAST-MODIFIED:20230519T160514Z
UID:23082-1684602000-1684605600@passaparola.info
SUMMARY:Messa in italiano
DESCRIPTION:SABATO 20 MAGGIO \nBonnevoie 17h00 Santa Messa in onore di San Pio (consegna Tau e pergamena a quanti hanno fatto la prima confessione)
URL:https://passaparola.info/web/eventi/messa-in-italiano/
END:VEVENT
BEGIN:VEVENT
DTSTART;TZID=Europe/Rome:20230516T180000
DTEND;TZID=Europe/Rome:20230516T200000
DTSTAMP:20260420T004857
CREATED:20230501T200537Z
LAST-MODIFIED:20230501T200926Z
UID:22721-1684260000-1684267200@passaparola.info
SUMMARY:Présentation du livre et de l’expo Les Exclus du Festin
DESCRIPTION:EXPOSITION LES EXCLUS DU FESTIN\nLa pauvreté au Luxembourg \nLa pauvreté chez les riches : impressions de voyage dans un monde méconnu et pourtant si proche\, parmi les pauvres et les travailleurs sociaux au Luxembourg… \nMARDI 16 MAI 2023\nà la Chambre des salariés(2-4 rue Pierre Hentges L-1726 Luxembourg)\nPROGRAMME\n18h00 – 20h00\nMot de bienvenue de Nora BACK \nPrésidente de la CSL\nIntervention de Claude FRISONI\nTexte\nIntervention de Raymond REUTER\nPhotos\nRéception offerte par la CSL \n  \nDu 16 mai au 15 septembre 2023\nà la Chambre des salariés\n2-4 rue Pierre Hentges\, L-1726 Luxembourg\n(Entrée libre du lundi au vendredi de 08h00-19h00)\nDu 16 mai au 16 juillet 2023\ndans la Gare du Luxembourg\nhall et passerelle\nAvec le soutien du Groupe CFL \n 
URL:https://passaparola.info/web/eventi/presentation-du-livre-et-de-lexpo-les-exclus-du-festin/
ATTACH;FMTTYPE=image/png:https://passaparola.info/web/wp-content/uploads/2023/05/frisoni.png
END:VEVENT
END:VCALENDAR